Workbook

Sheet Accounts 2024-25
B2: 2023-24 | D2: 2024-25 | I2: +/- PY | J2: +/- %
B3: FY | D3: FY
A4: Receipts
A5: Precept | B5: 10300 | D5: =Income!E29 -> 10800 | I5: =D5-B5 -> 500 | J5: =I5/B5 -> 0.048543689
A6: Grants - Grass Cutting | B6: 709 | D6: =Income!F29 -> 709 | I6: =D6-B6 -> 0 | J6: =I6/B6 -> 0
A7: Grants -Miscellaneous | D7: =Income!G29 -> 1665.83
A8: Play Area (Inspection reimbursement) | B8: 0 | D8: =Income!H29 -> 0 | I8: =D8-B8 -> 0 | J8: 0
A9: Wayleaves - West Close | B9: 0 | D9: =Income!I29 -> 16.75 | I9: =D9-B9 -> 16.75 | J9: =I9/B9 -> #DIV/0!
A10: Bank Interest | B10: 86.71 | D10: =Income!J29 -> 116.12 | I10: =D10-B10 -> 29.41 | J10: =I10/B10 -> 0.33917657
A11: Allotment Rents | B11: 152.28 | D11: =Income!K29 -> 287.5 | I11: =D11-B11 -> 135.22 | J11: =I11/B11 -> 0.88796953
A12: Village Hall | B12: 322.59 | D12: =Income!L29 -> 0 | I12: =D12-B12 -> -322.59 | J12: 1
A13: Miscellaneous | B13: 0 | D13: =Income!M29 -> 48.45 | I13: =D13-B13 -> 48.45 | J13: 0
A14: VAT Reclaim | B14: 2151.03 | D14: =Income!N29 -> 0 | I14: =D14-B14 -> -2151.03 | J14: -100%
A15: Total | B15: =SUM(B5:B14) -> 13721.61 | C15: =SUM(C5:C14) -> 0 | D15: =SUM(D5:D14) -> 13643.65 | I15: =D15-B15 -> -77.96 | J15: =I15/B15 -> -0.005681549
A17: Payments
A18: Clerk's Salary incl. NI | B18: 2766.6 | D18: =Expenditure!J80 -> 3485.36 | I18: =D18-B18 -> 718.76 | J18: =I18/B18 -> 0.25979903
A19: Clerk's Expenses & Admin | B19: 286 | D19: =Expenditure!K80 -> 338
A20: Insurance | B20: 537.28 | D20: =Expenditure!L80 -> 545.83 | I20: =D20-B20 -> 8.55 | J20: =I20/B20 -> 0.01591349
A21: Subscriptions (OALC, CFO, ICO) | B21: 230 | D21: =Expenditure!M80 -> 235 | I21: =D21-B21 -> 5 | J21: =I21/B21 -> 0.02173913
A22: Audit fees | B22: 60 | D22: =Expenditure!N80 -> 35 | I22: =D22-B22 -> -25 | J22: 0
A23: Grass Cutting | B23: 2613.97 | D23: =Expenditure!Q80 -> 2326.68 | I23: =D23-B23 -> -287.29 | J23: =I23/B23 -> -0.10990562
A24: Repirs/ Pruning | B24: 0 | D24: =Expenditure!O80 -> 0 | I24: =D24-B24 -> 0
A25: S137 Grants | B25: 2300 | D25: =Expenditure!R80 -> 3900 | I25: =D25-B25 -> 1600 | J25: =I25/B25 -> 0.69565217
A26: Allotment Expenses | B26: 236.15 | D26: =Expenditure!S80 -> 511.64 | I26: =D26-B26 -> 275.49 | J26: =I26/B26 -> 1.166589
A27: Dog Waste Bins | B27: 434.72 | D27: =Expenditure!T80 -> 446.16 | I27: =D27-B27 -> 11.44 | J27: =I27/B27 -> 0.026315789
A28: Play Equipment & Maintenance | B28: 0 | D28: =Expenditure!U80 -> 0 | I28: =D28-B28 -> 0 | J28: 0
A29: Play Area Inspection | B29: 150 | D29: =Expenditure!V80 -> 156 | I29: =D29-B29 -> 6 | J29: =I29/B29 -> 0.04
A30: Other Payments | B30: 0 | D30: =Expenditure!W80 -> 495.96 | I30: =D30-B30 -> 495.96 | J30: =I30/B30 -> #DIV/0!
A31: VAT | B31: 861.46 | D31: =Expenditure!I80 -> 890.48 | I31: =D31-B31 -> 29.02 | J31: =I31/B31 -> 0.033686996
A32: Village Hall | B32: 417.78 | D32: =Expenditure!X80 -> 0 | I32: =D32-B32 -> -417.78 | J32: 1
A33: Elections | B33: 0 | D33: =Expenditure!Y80 -> 0 | I33: =D33-B33 -> 0 | J33: 0
A34: Street Furniture | B34: 987.67 | D34: =Expenditure!Z80 -> 1192.61 | I34: =D34-B34 -> 204.94 | J34: 0
B35: =SUM(B18:B34) -> 11881.63 | C35: =SUM(C18:C34) -> 0 | D35: =SUM(D18:D34) -> 14558.72 | I35: =D35-B35 -> 2677.09 | J35: =I35/B35 -> 0.22531336
A40: Balance Brought Forward | B40: 8262.42 | D40: =B44 -> 10102.4
A41: Add:Receipts | B41: =B15 -> 13721.61 | D41: =D15 -> 13643.65
B42: =SUM(B40:B41) -> 21984.03 | D42: =SUM(D40:D41) -> 23746.05
A43: Less: Payments | B43: =B35 -> 11881.63 | D43: =D35 -> 14558.72
A44: Balance Carried Forward | B44: =B42-B43 -> 10102.4 | D44: =D42-D43 -> 9187.33
A46: Cash in Bank
A47: Community Account | B47: 1793.12 | D47: 1761.93
...

Sheet Income
A1: Date Credited to Bank Account | B1: From | D1: £ | E1: Precept | F1: Grants - Grass Cutting | G1: Grants - Miscellaneous | H1: Play Area | I1: Wayleaves | J1: Bank Interest | K1: Allotment Fees | L1: Village Hall | M1: Miscellaneous | N1: VAT Refund
A2: 45392 | B2: CDC | C2: Precept | D2: 5400 | E2: =D2 -> 5400
A3: 45398 | B3: National Grid | C3: Wayleave | D3: 16.75 | I3: =D3 -> 16.75
A4: 45414 | B4: C Elliott | C4: Allotment Rent | D4: 30 | K4: =D4 -> 30
A5: 45419 | B5: NW Belson | C5: Allotment Rent | D5: 30 | K5: =D5 -> 30
A6: 45434 | B6: OCC | C6: Grass cutting grant | D6: 709 | F6: =D6 -> 709
A7: 45443 | B7: J Turner | C7: Allotment Rent | D7: 15 | K7: =D7 -> 15
A8: 45443 | B8: N Dowland | C8: Allotment Rent | D8: 15 | K8: =D8 -> 15
A9: 45446 | B9: A Norman | C9: Allotment Rent | D9: 15 | K9: =D9 -> 15
A10: 45446 | B10: J Giles | C10: Allotment Rent | D10: 30 | K10: =D10 -> 30
A11: 45446 | B11: P Preece | C11: Allotment Rent | D11: 15 | K11: =D11 -> 15
A12: 45460 | B12: B Fryer | C12: Allotment Rent | D12: 15 | K12: =D12 -> 15
A13: 45446 | B13: Barclays | C13: Interest | D13: 31.07 | J13: =D13 -> 31.07
A14: 45488 | B14: Nicholls | C14: Allotment Rent | D14: 7.5 | K14: =D14 -> 7.5
A15: 45531 | B15: J Holmes | C15: Allotment Rent | D15: 15 | K15: =D15 -> 15
A16: 45537 | B16: Barclays | C16: Interest | D16: 31.19 | J16: =D16 -> 31.19
A17: 45548 | B17: CDC | C17: Precept | D17: 5400 | E17: =D17 -> 5400
A18: 45596 | B18: C Alsworth | C18: Allotment Rent | D18: 15 | K18: =D18 -> 15
A19: 45600 | B19: Cash | C19: Allotment Rent | D19: 75 | K19: =D19 -> 75
A20: 45628 | B20: Harding | C20: Allotment Rent | D20: 10 | K20: =D20 -> 10
A21: 45628 | B21: Barclays | C21: Interest | D21: 27.69 | J21: =D21 -> 27.69
A22: 45664 | B22: D Best | C22: Refund Xmas lights | D22: 48.45 | M22: =D22 -> 48.45
A23: 45684 | B23: OCC | C23: Defib Grant | D23: 1665.83 | G23: =D23 -> 1665.83
A24: 45719 | B24: Barclays | C24: Interest | D24: 26.17 | J24: =D24 -> 26.17
D29: =SUM(D2:D28) -> 13643.65 | E29: =SUM(E2:E28) -> 10800 | F29: =SUM(F2:F28) -> 709 | G29: =SUM(G2:G28) -> 1665.83 | H29: =SUM(H2:H28) -> 0 | I29: =SUM(I2:I28) -> 16.75 | J29: =SUM(J2:J28) -> 116.12 | K29: =SUM(K2:K28) -> 287.5 | ... N29: =SUM(N2:N28) -> 0 | P29: =SUM(E29:N29) -> 13643.65
A30: Less:Precept | D30: =E29 -> 10800
D31: =D29-D30 -> 2843.65

Sheet Expenditure
A1: Date Banked | B1: Invoice Date | C1: VAT No. | D1: Payee | G1: £ | H1: Ex VAT | I1: VAT | J1: Payroll | K1: Expenses (administration) | L1: Insurance | M1: Subscriptions | N1: Audit & ICO Fees | O1: Repairs/ Pruning | P1: Donations | Q1: Grass Cutting | R1: Grants | S1: Allotment Expenses | T1: Dog Bin Emptying | U1: Play Equipment/Reps | V1: Play Area Inspection | W1: Other | X1: Village Hall | Y1: Elections | Z1: Street Furniture
A2: 45404 | D2: Castle Water | E2: Allotment Water | G2: 9.13 | H2: 7.61 | I2: =G2-H2 -> 1.52 | S2: =H2 -> 7.61
A3: 45420 | D3: D Best | E3: Homeworking - Feb | G3: 26 | K3: =G3 -> 26
D4: D Best | E4: Homeworking - Mar | G4: 26 | K4: =G4 -> 26
D5: HMRC | E5: PAYE - Feb | G5: 52.8 | J5: =G5 -> 52.8
D6: HMRC | E6: PAYE - Mar | G6: 53 | J6: =G6 -> 53
B7: 45394 | D7: S Turner | E7: Tree Signs | G7: 55.16 | H7: 45.96 | I7: =G7-H7 -> 9.2 | W7: =H7 -> 45.96
D8: Thomas Fox | E8: Inv 39574 | G8: 158.35 | H8: 131.96 | I8: =G8-H8 -> 26.39 | Q8: =H8 -> 131.96
D9: Thomas Fox | E9: Inv 39842 | G9: 158.35 | H9: 131.96 | I9: =G9-H9 -> 26.39 | Q9: =H9 -> 131.96
D10: D Best | E10: Pay - Feb | G10: 211.8 | J10: =G10 -> 211.8
D11: CDC | E11: Dog Bin Emptying | G11: 267.7 | H11: =223.08 -> 223.08 | I11: =G11-H11 -> 44.62 | T11: =H11 -> 223.08
A12: 45433 | D12: D Best | E12: Pay - Mar | G12: 211.8 | J12: =G12 -> 211.8
A13: 45434 | D13: Castle Water | E13: Allotment Water | G13: 6.3 | H13: 5.25 | I13: =G13-H13 -> 1.05 | S13: =H13 -> 5.25
A14: 45467 | D14: Castle Water | E14: Allotment Water | G14: 9.08 | H14: 7.56 | I14: =G14-H14 -> 1.52 | S14: =H14 -> 7.56
A15: 45481 | D15: D Best | E15: Homeworking - Apr | G15: 26 | K15: =G15 -> 26
D16: D Best | E16: Homeworking - May | G16: 26 | K16: =G16 -> 26
D17: HMRC | E17: PAYE - Apr | G17: 52.8 | J17: =G17 -> 52.8
D18: HMRC | E18: PAYE - May | G18: 53 | J18: =G18 -> 53
D19: Thomas Fox | E19: Inv 40028 | G19: 158.35 | H19: 131.96 | I19: =G19-H19 -> 26.39 | Q19: =H19 -> 131.96
D20: D Best | E20: Pay - May | G20: 211.6 | J20: =G20 -> 211.6
D21: D Best | E21: Pay - June | G21: 211.8 | J21: =G21 -> 211.8
D22: Cubiculo | E22: Wood Treatment of St Furniture | G22: 331.8 | Z22: =G22 -> 331.8
D23: Zurich | E23: Insurance | G23: 545.83 | L23: =G23 -> 545.83
D24: Thomas Fox | E24: Inv 40375 | G24: 844.65 | H24: 703.88 | I24: =G24-H24 -> 140.77 | Q24: =H24 -> 703.88
A25: 45495 | D25: Castle Water | E25: Allotment Water | G25: 25.69 | H25: 21.41 | I25: =G25-H25 -> 4.28 | S25: =H25 -> 21.41
A26: 45487 | D26: D Best | E26: Homeworking - June | G26: 26 | K26: =G26 -> 26
D27: D Best | E27: Homeworking - July | G27: 26 | K27: =G27 -> 26
D28: HMRC | E28: PAYE - June | G28: 52.8 | J28: =G28 -> 52.8
D29: HMRC | E29: PAYE - July | G29: 53 | J29: =G29 -> 53
D30: Playsafety | E30: Inspection | G30: 187.2 | H30: 156 | I30: =G30-H30 -> 31.2 | V30: =H30 -> 156
D31: D Best | E31: Pay - Jul | G31: 211.6 | J31: =G31 -> 211.6
D32: D Best | E32: Pay - June | G32: 211.8 | J32: =G32 -> 211.8
D33: Thomas Fox | E33: Inv 40637 | G33: 656.97 | H33: 547.48 | I33: =G33-H33 -> 109.49 | Q33: =H33 -> 547.48
A34: 45524 | D34: Castle Water | E34: Allotment Water | G34: 104.72 | H34: 87.26 | I34: =G34-H34 -> 17.46 | S34: =H34 -> 87.26
A35: 45540 | D35: D Best | E35: Homeworking Aug | G35: 26 | K35: =G35 -> 26
D36: HMRC | E36: PAYE Aug | G36: 53 | J36: =G36 -> 53
D37: D Best | E37: Pay - Aug | G37: 211.6 | J37: =G37 -> 211.6
D38: Thomas Fox | E38: Inv 41086 | G38: 407.66 | H38: 339.72 | I38: =G38-H38 -> 67.94 | Q38: =H38 -> 339.72
D39: Kingfisher | E39: Rubbish Bins | G39: 831.6 | H39: 693 | I39: =G39-H39 -> 138.6 | Z39: =H39 -> 693
D40: Barford News | G40: 900 | R40: =G40 -> 900
...

Sheet Budget 2025-26
B2: 2023-24 | D2: 2024-25 | F2: 2024-25 | H2: 2025-26 | I2: +/- PY | J2: +/- %
B3: FY | D3: YTD | F3: FY Forecast | H3: 2025-26 | L3: Assumption
A4: Receipts
A5: Precept | B5: 10300 | D5: =Income!E29 -> 10800 | F5: =D5 -> 10800 | H5: =F5+(F5*0.05) -> 11340 | I5: =D5-B5 -> 500 | J5: =I5/B5 -> 0.048543689 | L5: 0.05
A6: Grants - Grass Cutting | B6: 709 | D6: =Income!F29 -> 709 | F6: =D6 -> 709 | H6: =F6 -> 709 | I6: =D6-B6 -> 0 | J6: =I6/B6 -> 0
A7: Play Area (Inspection reimbursement) | B7: 0 | D7: =Income!H29 -> 0 | F7: 0 | H7: 0 | I7: =D7-B7 -> 0 | J7: 0
A8: Wayleaves - West Close | B8: 0 | D8: =Income!I29 -> 16.75 | F8: =D8 -> 16.75 | H8: =F8 -> 16.75 | I8: =D8-B8 -> 16.75 | J8: =I8/B8 -> #DIV/0!
A9: Bank Interest | B9: 86.71 | D9: =Income!J29 -> 116.12 | F9: 93.39 | H9: 93 | I9: =D9-B9 -> 29.41 | J9: =I9/B9 -> 0.33917657
A10: Allotment Rents | B10: 152.28 | D10: =Income!K29 -> 287.5 | F10: =D10 -> 287.5 | H10: =F10 -> 287.5 | I10: =D10-B10 -> 135.22 | J10: =I10/B10 -> 0.88796953
A11: Village Hall | B11: 322.59 | D11: =Income!L29 -> 0 | F11: 0 | H11: 0 | I11: =D11-B11 -> -322.59 | J11: 1
A12: Miscellaneous | B12: 0 | D12: =Income!M29 -> 48.45 | F12: 0 | H12: 0 | I12: =D12-B12 -> 48.45 | J12: 0
A13: VAT Reclaim | B13: 2151.03 | D13: =Income!N29 -> 0 | F13: 750 | H13: 750 | I13: =D13-B13 -> -2151.03 | J13: -100%
A14: Total | B14: =SUM(B5:B13) -> 13721.61 | C14: =SUM(C5:C13) -> 0 | D14: =SUM(D5:D13) -> 11977.82 | F14: =SUM(F5:F13) -> 12656.64 | H14: =SUM(H5:H13) -> 13196.25 | I14: =D14-B14 -> -1743.79 | J14: =I14/B14 -> -0.12708348
A16: Payments
A17: Clerk's Salary incl. NI | B17: 2766.6 | D17: =Expenditure!J80 -> 3485.36 | F17: =D17+1103.76-264.6 -> 4324.52 | H17: =F17+(F17*0.05) -> 4540.746 | I17: =D17-B17 -> 718.76 | J17: =I17/B17 -> 0.25979903 | L17: 0.05
A18: Clerk's Expenses & Admin | B18: 286 | D18: =Expenditure!K80 -> 338 | F18: 312 | H18: =F18 -> 312
A19: Insurance | B19: 537.28 | D19: =Expenditure!L80 -> 545.83 | F19: =D19 -> 545.83 | H19: =F19+(F19*0.05) -> 573.1215 | I19: =D19-B19 -> 8.55 | J19: =I19/B19 -> 0.01591349 | L19: 0.05
A20: Subscriptions (OALC, CFO, ICO) | B20: 230 | D20: =Expenditure!M80 -> 235 | F20: =B20 -> 230 | H20: =F20+(F20*0.05) -> 241.5 | I20: =D20-B20 -> 5 | J20: =I20/B20 -> 0.02173913 | L20: 0.05
A21: Audit fees | B21: 60 | D21: =Expenditure!N80 -> 35 | F21: =B21 -> 60 | H21: =F21 -> 60 | I21: =D21-B21 -> -25 | J21: 0
A22: Grass Cutting | B22: 2613.97 | D22: =Expenditure!Q80 -> 2326.68 | F22: 2930.32 | H22: 3726.91 | I22: =D22-B22 -> -287.29 | J22: =I22/B22 -> -0.10990562 | L22: Quote
A23: Repirs/ Pruning | B23: 0 | D23: =Expenditure!O80 -> 0 | F23: 0 | H23: 0 | I23: =D23-B23 -> 0
A24: S137 Grants | B24: 2300 | D24: =Expenditure!R80 -> 3900 | F24: =D24 -> 3900 | H24: =F24 -> 3900 | I24: =D24-B24 -> 1600 | J24: =I24/B24 -> 0.69565217
A25: Allotment Expenses | B25: 236.15 | D25: =Expenditure!S80 -> 511.64 | F25: =D25+15.64 -> 527.28 | H25: =F25+(F25*0.05) -> 553.644 | I25: =D25-B25 -> 275.49 | J25: =I25/B25 -> 1.166589 | L25: 0.05
A26: Dog Waste Bins | B26: 434.72 | D26: =Expenditure!T80 -> 446.16 | F26: =D26 -> 446.16 | H26: =F26+(F26*0.05) -> 468.468 | I26: =D26-B26 -> 11.44 | J26: =I26/B26 -> 0.026315789 | L26: 0.05
A27: Play Equipment & Maintenance | B27: 0 | D27: =Expenditure!U80 -> 0 | F27: 0 | H27: 0 | I27: =D27-B27 -> 0 | J27: 0
A28: Play Area Inspection | B28: 150 | D28: =Expenditure!V80 -> 156 | F28: =D28 -> 156 | H28: =F28+(F28*0.05) -> 163.8 | I28: =D28-B28 -> 6 | J28: =I28/B28 -> 0.04 | L28: 0.05
A29: Other Payments | B29: 0 | D29: =Expenditure!W80 -> 495.96 | F29: =D29 -> 495.96 | H29: 50 | I29: =D29-B29 -> 495.96 | J29: =I29/B29 -> #DIV/0!
A30: VAT | B30: 861.46 | D30: =Expenditure!I80 -> 890.48 | F30: 750 | H30: 750 | I30: =D30-B30 -> 29.02 | J30: =I30/B30 -> 0.033686996
A31: Village Hall | B31: 417.78 | D31: =Expenditure!X80 -> 0 | F31: 0 | H31: 0 | I31: =D31-B31 -> -417.78 | J31: 1
A32: Elections | B32: 0 | D32: =Expenditure!Y80 -> 0 | F32: 0 | H32: 0 | I32: =D32-B32 -> 0 | J32: 0
A33: Street Furniture | B33: 987.67 | D33: =Expenditure!Z80 -> 1192.61 | F33: =D33 -> 1192.61 | H33: 900 | I33: =D33-B33 -> 204.94 | J33: 0
B34: =SUM(B17:B33) -> 11881.63 | C34: =SUM(C17:C33) -> 0 | D34: =SUM(D17:D33) -> 14558.72 | E34: 45.8 | F34: =SUM(F17:F33) -> 15870.68 | H34: =SUM(H17:H33) -> 16240.189 | I34: =D34-B34 -> 2677.09 | J34: =I34/B34 -> 0.22531336
E35: 45.8
A36: Excess of Income over expenditure | B36: =B14-B34 -> 1839.98 | D36: =D14-D34 -> -2580.9 | E36: 100 | F36: =F14-F34 -> -3214.04 | H36: =H14-H34 -> -3043.9395
E37: 168
E38: 182.8
A39: Balance Brought Forward | B39: 8262.42 | D39: =B43 -> 10102.4 | E39: 182.8 | F39: =D39 -> 10102.4 | H39: =F43 -> 6888.36
A40: Add:Receipts | B40: =B14 -> 13721.61 | D40: =D14 -> 11977.82 | E40: 198.64 | F40: =F14 -> 12656.64 | H40: =H14 -> 13196.25
B41: =SUM(B39:B40) -> 21984.03 | D41: =SUM(D39:D40) -> 22080.22 | E41: 454.89 | F41: =SUM(F39:F40) -> 22759.04 | H41: =SUM(H39:H40) -> 20084.61
A42: Less: Payments | B42: =B34 -> 11881.63 | D42: =D34 -> 14558.72 | E42: 785.02 | F42: =F34 -> 15870.68 | H42: =H34 -> 16240.189
...

Sheet Budget 2024-25
B2: 2023-24 | D2: 2024-25 | F2: 2024-25 | H2: 2025-26 | I2: +/- PY | J2: +/- %
B3: FY | D3: YTD | F3: Forecast YE | H3: Budget
A4: Receipts
A5: Precept | B5: 10300 | D5: =Income!E29 -> 10800 | F5: =D5 -> 10800 | H5: 10800 | I5: =D5-B5 -> 500 | J5: =I5/B5 -> 0.048543689 | L5: +5%
A6: Grants - Grass Cutting | B6: 709 | D6: =Income!F29 -> 709 | F6: =D6 -> 709 | H6: 709 | I6: =D6-B6 -> 0 | J6: =I6/B6 -> 0
A7: Play Area (Inspection reimbursement) | B7: 0 | D7: =Income!H29 -> 0 | F7: =E7 -> 0 | H7: 0 | I7: =D7-B7 -> 0 | J7: 0
A8: Wayleaves - West Close | B8: 14.94 | D8: =Income!I29 -> 16.75 | F8: 14.94 | H8: 15 | I8: =D8-B8 -> 1.81 | J8: =I8/B8 -> 0.12115127
A9: Bank Interest | B9: 5.5 | D9: =Income!J29 -> 116.12 | F9: =D9*2 -> 232.24 | H9: 2 | I9: =D9-B9 -> 110.62 | J9: =I9/B9 -> 20.112727
A10: Allotment Rents | B10: 185 | D10: =Income!K29 -> 287.5 | F10: =D10*2 -> 575 | H10: =D10 -> 287.5 | I10: =D10-B10 -> 102.5 | J10: =I10/B10 -> 0.55405405
A11: Village Hall | B11: 0 | D11: =Income!L29 -> 0 | F11: 0 | H11: 0 | I11: =D11-B11 -> 0 | J11: 1
A12: Miscellaneous | B12: 28 | D12: =Income!M29 -> 48.45 | H12: 0 | I12: =D12-B12 -> 20.45 | J12: 0
A13: VAT Reclaim | B13: 0 | D13: =Income!N29 -> 0 | F13: =D30 -> 890.48 | G13: =E13-F13 -> -890.48 | H13: 800 | I13: =D13-B13 -> 0 | J13: -100%
A14: Total | B14: =SUM(B5:B13) -> 11242.44 | C14: =SUM(C5:C13) -> 0 | D14: =SUM(D5:D13) -> 11977.82 | F14: =SUM(F5:F13) -> 13221.66 | H14: =SUM(H5:H13) -> 12613.5 | I14: =D14-B14 -> 735.38 | J14: =I14/B14 -> 0.065411067
A16: Payments
A17: Clerk's Salary incl. NI | B17: 3260.52 | D17: =Expenditure!J80 -> 3485.36 | F17: =(D17+246.6)*2 -> 7463.92 | G17: =E17-F17 -> -7463.92 | H17: =(F17*$H$36)+F17 -> 7837.116 | I17: =D17-B17 -> 224.84 | J17: =I17/B17 -> 0.068958326
A18: Clerk's Expenses & Admin | B18: 361 | D18: =Expenditure!K80 -> 338 | F18: 312 | G18: =E18-F18 -> -312 | H18: =26*12 -> 312
A19: Insurance | B19: 554.44 | D19: =Expenditure!L80 -> 545.83 | F19: =D19 -> 545.83 | H19: =(F19*$H$36)+F19 -> 573.1215 | I19: =D19-B19 -> -8.61 | J19: =I19/B19 -> -0.015529183
A20: Subscriptions (OALC, CFO, ICO) | B20: 290 | D20: =Expenditure!M80 -> 235 | F20: 290 | H20: =(F20*$H$36)+F20 -> 304.5 | I20: =D20-B20 -> -55 | J20: =I20/B20 -> -0.18965517
A21: Audit fees | B21: 0 | D21: =Expenditure!N80 -> 35 | F21: 60 | H21: 60 | I21: =D21-B21 -> 35 | J21: 0
A22: Grass Cutting | B22: 2715.61 | D22: =Expenditure!Q80 -> 2326.68 | F22: =B22 -> 2715.61 | H22: =(F22*$H$36)+F22 -> 2851.3905 | I22: =D22-B22 -> -388.93 | J22: =I22/B22 -> -0.14322012
A23: Repirs/ Pruning | B23: 10 | D23: =Expenditure!O80 -> 0 | F23: 200 | H23: 250 | I23: =D23-B23 -> -10
A24: S137 Grants | B24: 2100 | D24: =Expenditure!R80 -> 3900 | F24: =D24+1300 -> 5200 | H24: 2000 | I24: =D24-B24 -> 1800 | J24: =I24/B24 -> 0.85714286
A25: Allotment Expenses | B25: 510.84 | D25: =Expenditure!S80 -> 511.64 | F25: 200 | H25: =(250*$H$36)+250 -> 262.5 | I25: =D25-B25 -> 0.8 | J25: =I25/B25 -> 0.0015660481
A26: Dog Waste Bins | B26: 411.84 | D26: =Expenditure!T80 -> 446.16 | F26: =D26+223.08 -> 669.24 | H26: =(F26*$H$36)+F26 -> 702.702 | I26: =D26-B26 -> 34.32 | J26: =I26/B26 -> 0.083333333
A27: Play Equipment & Maintenance | B27: 0 | D27: =Expenditure!U80 -> 0 | F27: 0 | G27: =E27-F27 -> 0 | H27: 100 | I27: =D27-B27 -> 0 | J27: 0
A28: Play Area Inspection | B28: 140 | D28: =Expenditure!V80 -> 156 | F28: 150 | H28: =(F28*$H$36)+F28 -> 157.5 | I28: =D28-B28 -> 16 | J28: =I28/B28 -> 0.11428571
A29: Other Payments | B29: 529.36 | D29: =Expenditure!W80 -> 495.96 | F29: 0 | H29: 150 | I29: =D29-B29 -> -33.4 | J29: =I29/B29 -> -0.063095058
A30: VAT | B30: 1317.57 | D30: =Expenditure!I80 -> 890.48 | F30: =D30+200 -> 1090.48 | G30: =E30-F30 -> -1090.48 | H30: 800 | I30: =D30-B30 -> -427.09 | J30: =I30/B30 -> -0.32414976
A31: Village Hall | B31: 0 | D31: =Expenditure!X80 -> 0 | F31: 0 | G31: =E31-F31 -> 0 | H31: 0 | I31: =D31-B31 -> 0 | J31: 1
A32: Elections | B32: 100 | D32: =Expenditure!Y80 -> 0 | F32: 0 | H32: 0 | I32: =D32-B32 -> -100 | J32: 0
A33: Street Furniture | B33: 2050.27 | D33: =Expenditure!Z80 -> 1192.61 | F33: =D33 -> 1192.61 | H33: 150 | I33: =D33-B33 -> -857.66 | J33: 0
B34: =SUM(B17:B33) -> 14351.45 | C34: =SUM(C17:C33) -> 0 | D34: =SUM(D17:D33) -> 14558.72 | E34: 45.8 | F34: =SUM(F17:F33) -> 20089.69 | H34: =SUM(H17:H33) -> 16510.83 | I34: =D34-B34 -> 207.27 | J34: =I34/B34 -> 0.014442443
E35: 45.8
E36: 100 | H36: 0.05
E37: 168 | G37: =E37-F37 -> 168
E38: 182.8
A39: Balance Brought Forward | B39: 11371.43 | D39: =B43 -> 8262.42 | E39: 182.8 | F39: =B43 -> 8262.42 | H39: =F43 -> 1394.39
A40: Add:Receipts | B40: =B14 -> 11242.44 | D40: =D14 -> 11977.82 | E40: 198.64 | F40: =F14 -> 13221.66 | G40: =G14 -> 0 | H40: =H14 -> 12613.5
B41: =SUM(B39:B40) -> 22613.87 | D41: =SUM(D39:D40) -> 20240.24 | E41: 454.89 | F41: =SUM(F39:F40) -> 21484.08 | G41: =SUM(G39:G40) -> 0 | H41: =SUM(H39:H40) -> 14007.89
A42: Less: Payments | B42: =B34 -> 14351.45 | D42: =D34 -> 14558.72 | E42: 785.02 | F42: =F34 -> 20089.69 | G42: =G34 -> 0 | H42: =H34 -> 16510.83
...

Sheet Bank Reconciliation
A1: Bank Balances as at 31/03/2025
B2: Community Account ( 80706973) | C2: 1761.93
B3: Business Saver Account (80401765) | C3: 7425.4
D4: =SUM(C2:C3) -> 9187.33
A6: Less: Unpresented cheques
D12: =SUM(C7:C11) -> 0
D13: =D4-D12 -> 9187.33
A14: Add: Uncleared payments
D20: =SUM(C15:C19) -> 0
D21: =D13+D20 -> 9187.33
A22: Add: Short term investments
B23: Detail | C23: 0
B24: Detail | C24: 0
B25: Detail | C25: 0
D26: =SUM(C23:C25) -> 0
A27: Total | D27: =D21+D26 -> 9187.33
A29: What is the figure in Box 8 in section 2 of the annual return ?
A31: Does the total equal Box 8 in section 2 of the annual return ?

Sheet Budget 2023-24
B1: 2021-22 | D1: 2022-23 | F1: 2022-23 | H1: 2022-23 | J1: 2023-24 | K1: +/- PY | L1: +/- %
B2: FY | D2: Budget | F2: YTD | H2: Forecast YE | J2: Budget
A3: Receipts
A4: Precept | B4: 10000 | D4: 10300 | F4: 10300 | H4: =F4 -> 10300 | J4: 10300 | K4: =F4-B4 -> 300 | L4: =K4/B4 -> 0.03
A5: Grants - Grass Cutting | B5: 709 | D5: 709 | F5: 709 | H5: =F5 -> 709 | J5: 709 | K5: =F5-B5 -> 0 | L5: =K5/B5 -> 0
A6: Play Area (Inspection reimbursement) | B6: 0 | F6: 0 | H6: =F6 -> 0 | J6: 0 | K6: =F6-B6 -> 0 | L6: 0
A7: Wayleaves - West Close | B7: 17.63 | D7: 18 | F7: 14.94 | H7: =F7 -> 14.94 | J7: 15 | K7: =F7-B7 -> -2.69 | L7: =K7/B7 -> -0.15258083
A8: Bank Interest | B8: 0.24 | D8: 0 | F8: 0.97 | H8: =F8+0.78 -> 1.75 | J8: 2 | K8: =F8-B8 -> 0.73 | L8: =K8/B8 -> 3.0416667
A9: Allotment Rents | B9: 90 | D9: 300 | F9: 185 | H9: =F9+300 -> 485 | J9: 300 | K9: =F9-B9 -> 95 | L9: =K9/B9 -> 1.0555556
A10: Village Hall | B10: 1069.75 | D10: 0 | F10: 0 | H10: =F10 -> 0 | J10: 0 | K10: =F10-B10 -> -1069.75 | L10: 1
A11: Miscellaneous | B11: 0 | F11: 28 | H11: =F11 -> 28 | J11: 0 | K11: =F11-B11 -> 28 | L11: 0
A12: VAT Reclaim | B12: 2932.53 | D12: 895 | F12: 0 | H12: =F29+12.05 -> 798.72 | I12: =G12-H12 -> -798.72 | J12: 800 | K12: =F12-B12 -> -2932.53 | L12: -100%
A13: Total | B13: =SUM(B4:B12) -> 14819.15 | C13: =SUM(C4:C12) -> 0 | D13: =SUM(D4:D12) -> 12222 | F13: =SUM(F4:F12) -> 11237.91 | H13: =SUM(H4:H12) -> 12337.41 | J13: =SUM(J4:J12) -> 12126 | K13: =F13-B13 -> -3581.24 | L13: =K13/B13 -> -0.24166298
A15: Payments
A16: Clerk's Salary incl. NI | B16: 2217.24 | D16: 2777 | F16: 2273.92 | H16: =F16+914.4 -> 3188.32 | I16: =G16-H16 -> -3188.32 | J16: =((228.6*J35)+228.6)*12 -> 2880.36 | K16: =F16-B16 -> 56.68 | L16: =K16/B16 -> 0.025563313
A17: Clerk's Expenses & Admin | B17: 406.95 | D17: 350 | F17: 257 | H17: =F17+104 -> 361 | I17: =G17-H17 -> -361 | J17: =26*12+38 -> 350
A18: Insurance | B18: 549.82 | D18: 566 | F18: 554.44 | H18: =F18 -> 554.44 | J18: =(H18*J35)+H18 -> 582.162 | K18: =F18-B18 -> 4.62 | L18: =K18/B18 -> 0.00840275
A19: Subscriptions (OALC, CFO, ICO) | B19: 90 | D19: 218 | F19: 160 | H19: =F19 -> 160 | J19: =(H19*$J$35)+H19 -> 168 | K19: =F19-B19 -> 70 | L19: =K19/B19 -> 0.77777778
A20: Audit fees | B20: 260 | D20: 268 | F20: 0 | H20: =F20 -> 0 | J20: 60 | K20: =F20-B20 -> -260 | L20: 0
A21: Grass Cutting | B21: 3223.95 | D21: 3236 | F21: 2715.61 | H21: =F21+48.76 -> 2764.37 | J21: =(H21*$J$35)+H21 -> 2902.5885 | K21: =F21-B21 -> -508.34 | L21: =K21/B21 -> -0.15767614
A22: Repirs/ Pruning | B22: 0 | D22: 250 | F22: 10 | H22: =F22 -> 10 | J22: 250 | K22: =F22-B22 -> 10
A23: S137 Grants | B23: 1806.25 | D23: 2060 | F23: 2000 | H23: =F23 -> 2000 | J23: 2000 | K23: =F23-B23 -> 193.75 | L23: =K23/B23 -> 0.10726644
A24: Allotment Expenses | B24: 25 | D24: 225 | F24: 511.39 | H24: =F24+11.5 -> 522.89 | J24: =(250*$J$35)+250 -> 262.5 | K24: =F24-B24 -> 486.39 | L24: =K24/B24 -> 19.4556
A25: Dog Waste Bins | B25: 400.95 | D25: 413 | F25: 200.2 | H25: =F25*2 -> 400.4 | J25: =(H25*$J$35)+H25 -> 420.42 | K25: =F25-B25 -> -200.75 | L25: =K25/B25 -> -0.50068587
A26: Play Equipment & Maintenance | B26: 0 | D26: 200 | F26: 0 | H26: 50 | I26: =G26-H26 -> -50 | J26: 100 | K26: =F26-B26 -> 0 | L26: 0
A27: Play Area Inspection | B27: 137 | D27: 141 | F27: 140 | H27: =F27 -> 140 | J27: =(H27*$J$35)+H27 -> 147 | K27: =F27-B27 -> 3 | L27: =K27/B27 -> 0.02189781
A28: Other Payments | B28: 0 | D28: 150 | F28: 278.36 | H28: =F28 -> 278.36 | J28: 150 | K28: =F28-B28 -> 278.36 | L28: =K28/B28 -> #DIV/0!
A29: VAT | B29: 1448.01 | D29: 895 | F29: 786.67 | H29: =F29+12 -> 798.67 | I29: =G29-H29 -> -798.67 | J29: 800 | K29: =F29-B29 -> -661.34 | L29: =K29/B29 -> -0.45672337
A30: Village Hall | B30: 1983.93 | D30: 0 | F30: 0 | H30: =F30 -> 0 | I30: =G30-H30 -> 0 | J30: 0 | K30: =F30-B30 -> -1983.93 | L30: 1
A31: Elections | B31: 0 | D31: 300 | F31: 100 | H31: =F31 -> 100 | J31: 0 | K31: =F31-B31 -> 100 | L31: 0
A32: Street Furniture | B32: 1222.13 | D32: 150 | F32: 0 | H32: 1937.83 | J32: 150 | K32: =F32-B32 -> -1222.13 | L32: 0
B33: =SUM(B16:B32) -> 13771.23 | C33: =SUM(C16:C32) -> 0 | D33: =SUM(D16:D32) -> 12199 | E33: =SUM(E16:E32) -> 0 | F33: =SUM(F16:F32) -> 9987.59 | G33: 45.8 | H33: =SUM(H16:H32) -> 13266.28 | J33: =SUM(J16:J32) -> 11223.031 | K33: =F33-B33 -> -3783.64 | L33: =K33/B33 -> -0.2747496
G34: 45.8
G35: 100 | J35: 0.05
G36: 168 | I36: =G36-H36 -> 168
G37: 182.8
A38: Balance Brought Forward | B38: 10323.51 | G38: 182.8 | H38: =B42 -> 11371.43 | J38: =H42 -> 10442.56
A39: Add:Receipts | B39: =B13 -> 14819.15 | G39: 198.64 | H39: =H13 -> 12337.41 | I39: =I13 -> 0 | J39: =J13 -> 12126
B40: =SUM(B38:B39) -> 25142.66 | G40: 454.89 | H40: =SUM(H38:H39) -> 23708.84 | I40: =SUM(I38:I39) -> 0 | J40: =SUM(J38:J39) -> 22568.56
A41: Less: Payments | B41: =B33 -> 13771.23 | G41: 785.02 | H41: =H33 -> 13266.28 | I41: =I33 -> 0 | J41: =J33 -> 11223.031
...
