Workbook

Sheet Income
A1: Date Credited to Bank Account | B1: From | D1: £ | E1: Precept | F1: Grants - Grass Cutting | G1: Grants - Miscellaneous | H1: Play Area | I1: Wayleaves | J1: Bank Interest | K1: Allotment Fees | L1: Village Hall | M1: Miscellaneous | N1: VAT Refund
A2: 45022 | B2: Village Hall | C2: in error | D2: 322.59 | L2: =D2 -> 322.59
A3: 45030 | B3: Cherwell | C3: Precept | D3: 5150 | E3: =D3 -> 5150
A4: 45037 | B4: OCC | C4: Grass Grant | D4: 709 | F4: =D4 -> 709
A5: 45056 | B5: Norman | C5: Allotment rent | D5: 15 | K5: =D5 -> 15
B6: Belson | C6: Allotment rent | D6: 15 | K6: =D6 -> 15
A7: 45057 | B7: Preece | C7: Allotment rent | D7: 15 | K7: =D7 -> 15
A8: 45058 | B8: Alsworth | C8: Allotment rent | D8: 15 | K8: =D8 -> 15
A9: 45061 | B9: Hobday | C9: Allotment rent | D9: 15 | K9: =D9 -> 15
B10: Harding | C10: Allotment rent | D10: 10 | K10: =D10 -> 10
A11: 45001 | B11: Baxter | C11: Allotment rent | D11: 15 | K11: =D11 -> 15
A12: 45063 | B12: Dowland | C12: Allotment rent | D12: 15 | K12: =D12 -> 15
A13: 45071 | B13: Nationl Grid | C13: Wayleave | D13: 14.78 | K13: =D13 -> 14.78
A14: 45082 | B14: Holmes | C14: Allotment rent | D14: 15 | K14: =D14 -> 15
A15: 45082 | B15: Barclays | C15: Interest | D15: 5.26 | J15: =D15 -> 5.26
A16: 45092 | B16: Nicholls | C16: Allotment rent | D16: 7.5 | K16: =D16 -> 7.5
A17: 45173 | B17: Barclays | C17: Interest | D17: 21.76 | J17: =D17 -> 21.76
A18: 45182 | B18: CDC | C18: precept | D18: 5150 | E18: =D18 -> 5150
A19: 45264 | B19: Barclays | C19: Interest | D19: 28.73 | J19: =D19 -> 28.73
A20: 45349 | B20: HMRC | C20: VAT refund | D20: 2151.03 | N20: =D20 -> 2151.03
A21: 45355 | B21: Barclays | C21: Interest | D21: 30.96 | J21: =D21 -> 30.96
D23: =SUM(D2:D22) -> 13721.61 | E23: =SUM(E2:E22) -> 10300 | F23: =SUM(F2:F22) -> 709 | G23: =SUM(G2:G22) -> 0 | H23: =SUM(H2:H22) -> 0 | I23: =SUM(I2:I22) -> 0 | J23: =SUM(J2:J22) -> 86.71 | K23: =SUM(K2:K22) -> 152.28 | ... N23: =SUM(N2:N22) -> 2151.03 | P23: =SUM(E23:N23) -> 13721.61
A24: Less:Precept | D24: =E23 -> 10300
D25: =D23-D24 -> 3421.61

Sheet Expenditure
A1: Date Banked | B1: Cheque No | C1: Invoice Date | D1: VAT No. | E1: Payee | H1: £ | I1: Ex VAT | J1: VAT | K1: Payroll | L1: Expenses (administration) | M1: Insurance | N1: Subscriptions | O1: Audit & ICO Fees | P1: Repairs/ Pruning | Q1: Donations | R1: Grass Cutting | S1: Grants | T1: Allotment Expenses | U1: Dog Bin Emptying | V1: Play Equipment/Reps | W1: Play Area Inspection | X1: Other | Y1: Village Hall | Z1: Elections | AA1: Street Furniture
A2: 45051 | E2: D Best | F2: Homeworking Allowance - Mar | H2: 26 | L2: =H2 -> 26
A3: 45051 | E3: D Best | F3: Homeworking Allowance - Apr | H3: 26 | L3: =H3 -> 26
A4: 45051 | E4: HMRC | F4: PAYE - Mar | H4: 49.2 | K4: =H4 -> 49.2
A5: 45051 | E5: HMRC | F5: PAYE - Apr | H5: 49.4 | K5: =H5 -> 49.4
A6: 45051 | E6: D Best | F6: Pay - Mar | H6: 197.2 | K6: =H6 -> 197.2
A7: 45051 | E7: D Best | F7: Pay - Apr | H7: 197.4 | K7: =H7 -> 197.4
A8: 45051 | C8: 45020 | D8: 121588477 | E8: Cherwell | F8: Dog Bin Emptying | H8: 253.97 | I8: 211.64 | J8: =H8-I8 -> 42.33 | U8: =I8 -> 211.64
A9: 45051 | E9: village Hall | F9: Refund | H9: 322.59 | Y9: =H9 -> 322.59
A10: 45051 | C10: 45042 | D10: 729478095 | E10: Thomas Fox | F10: Grass Cutting Inv. 36816 | H10: 388.26 | I10: 323.55 | J10: =H10-I10 -> 64.71 | R10: =I10 -> 323.55
A11: 45051 | E11: Barford News | F11: s137 Grant | H11: 900 | S11: =H11 -> 900
A12: 45093 | E12: D Best | F12: Homeworking Allowance - May | H12: 26 | L12: =H12 -> 26
A13: 45093 | C13: 45079 | D13: 319427788 | E13: Castle Water | F13: Allotment Water | H13: 35.88 | I13: 29.9 | J13: =H13-I13 -> 5.98 | T13: =I13 -> 29.9
A14: 45093 | E14: HMRC | F14: PAYE - May | H14: 49.4 | K14: =H14 -> 49.4
A15: 45093 | E15: D Best | F15: Pay - May | H15: 197.2 | K15: =H15 -> 197.2
A16: 45093 | C16: 45076 | D16: 729478095 | E16: Thomas Fox | F16: Grass Cutting Inv. 37128 | H16: 388.26 | I16: 323.55 | J16: =H16-I16 -> 64.71 | R16: =I16 -> 323.55
A17: 45093 | E17: Zurich | F17: Insurance | H17: 537.28 | M17: =H17 -> 537.28
A18: 45093 | C18: 45069 | D18: 204207362 | E18: Furlong Electrical | F18: Defibrillator wiring | H18: 732 | I18: 610 | J18: =H18-I18 -> 122 | AA18: =I18 -> 610
A19: 45118 | E19: D Best | F19: Homeworking Allowance - Jun | H19: 26 | L19: =H19 -> 26
C20: 45110 | D20: 319427788 | E20: Castle Water | F20: Allotment Water | H20: 38.43 | I20: 32.03 | J20: =H20-I20 -> 6.4 | T20: =I20 -> 32.03
E21: HMRC | F21: PAYE - Jun | H21: 49.2 | K21: =H21 -> 49.2
H22: 32.34 | Y22: =H22 -> 32.34
C23: 45096 | D23: 682590213 | E23: The Sign Maker | H23: 75.42 | I23: 62.85 | J23: =H23-I23 -> 12.57 | Y23: =I23 -> 62.85
E24: Mrs S Turner | G24: =SUM(H22:H23) -> 107.76
E25: D Best | F25: Pay - Jun | H25: 197.4 | K25: =H25 -> 197.4
C26: 45099 | D26: 729478095 | E26: Thomas Fox | F26: Grass Cutting Inv. 37398 | H26: 388.26 | I26: 323.55 | J26: =H26-I26 -> 64.71 | R26: =I26 -> 323.55
A27: 45167 | E27: D Best | F27: Homeworking - Jul | H27: 26 | L27: =H27 -> 26
A28: 45167 | E28: HMRC | F28: PAYE - Jul | H28: 49.4 | K28: =H28 -> 49.4
A29: 45167 | C29: 45159 | D29: 319427788 | E29: Castle Water | H29: 50.08 | I29: 41.73 | J29: =H29-I29 -> 8.35 | T29: =I29 -> 41.73
A30: 45167 | C30: 8.08.2023 | D30: 876328389 | E30: Playsafety | H30: 180 | I30: 150 | J30: =H30-I30 -> 30 | W30: =I30 -> 150
A31: 45167 | E31: D Best | F31: Pay - Jul | H31: 197.2 | K31: =H31 -> 197.2
A32: 45167 | C32: 45134 | D32: 729478095 | E32: Thomas Fox | F32: Invoice 37684 | H32: 477.64 | I32: 398.03 | J32: =H32-I32 -> 79.61 | R32: =I32 -> 398.03
A33: 45191 | C33: 45173 | D33: 319427788 | E33: Castle Water | H33: 17.51 | I33: 14.59 | J33: =H33-I33 -> 2.92 | T33: =I33 -> 14.59
E34: D Best | F34: Homeworking - Aug | H34: 26 | L34: =H34 -> 26
E35: HMRC | F35: PAYE - Aug | H35: 49.4 | K35: =H35 -> 49.4
E36: J Eastwood | F36: Audit Fee | H36: 60 | O36: =H36 -> 60
E37: D Best | F37: Pay - Aug | H37: 197.2 | K37: =H37 -> 197.2
C38: 45168 | D38: 729478095 | E38: Thomas Fox | F38: Invoice 37960 | H38: 477.64 | I38: 398.03 | J38: =H38-I38 -> 79.61 | R38: =I38 -> 398.03
A39: 45240 | C39: 45201 | D39: 319427788 | E39: Castle Water | H39: 15.07 | I39: 12.56 | J39: =H39-I39 -> 2.51 | T39: =I39 -> 12.56
E40: D Best | F40: Homeworking - Sept | H40: 26 | L40: =H40 -> 26
...

Sheet Accounts 2023-24
B2: 2022-23 | D2: 2023-24 | I2: +/- PY | J2: +/- %
B3: FY | D3: FY
A4: Receipts
A5: Precept | B5: 10300 | D5: =Income!E23 -> 10300 | I5: =D5-B5 -> 0 | J5: =I5/B5 -> 0
A6: Grants - Grass Cutting | B6: 709 | D6: =Income!F23 -> 709 | I6: =D6-B6 -> 0 | J6: =I6/B6 -> 0
A7: Play Area (Inspection reimbursement) | B7: 0 | D7: =Income!H23 -> 0 | I7: =D7-B7 -> 0 | J7: 0
A8: Wayleaves - West Close | B8: 14.94 | D8: =Income!I23 -> 0 | I8: =D8-B8 -> -14.94 | J8: =I8/B8 -> -1
A9: Bank Interest | B9: 5.5 | D9: =Income!J23 -> 86.71 | I9: =D9-B9 -> 81.21 | J9: =I9/B9 -> 14.765455
A10: Allotment Rents | B10: 185 | D10: =Income!K23 -> 152.28 | I10: =D10-B10 -> -32.72 | J10: =I10/B10 -> -0.17686486
A11: Village Hall | B11: 0 | D11: =Income!L23 -> 322.59 | I11: =D11-B11 -> 322.59 | J11: 1
A12: Miscellaneous | B12: 28 | D12: =Income!M23 -> 0 | I12: =D12-B12 -> -28 | J12: 0
A13: VAT Reclaim | B13: 0 | D13: =Income!N23 -> 2151.03 | I13: =D13-B13 -> 2151.03 | J13: -100%
A14: Total | B14: =SUM(B5:B13) -> 11242.44 | C14: =SUM(C5:C13) -> 0 | D14: =SUM(D5:D13) -> 13721.61 | I14: =D14-B14 -> 2479.17 | J14: =I14/B14 -> 0.22051886
A16: Payments
A17: Clerk's Salary incl. NI | B17: 3260.52 | D17: =Expenditure!K70 -> 2766.6 | I17: =D17-B17 -> -493.92 | J17: =I17/B17 -> -0.15148504
A18: Clerk's Expenses & Admin | B18: 361 | D18: =Expenditure!L70 -> 286
A19: Insurance | B19: 554.44 | D19: =Expenditure!M70 -> 537.28 | I19: =D19-B19 -> -17.16 | J19: =I19/B19 -> -0.030950148
A20: Subscriptions (OALC, CFO, ICO) | B20: 290 | D20: =Expenditure!N70 -> 230 | I20: =D20-B20 -> -60 | J20: =I20/B20 -> -0.20689655
A21: Audit fees | B21: 0 | D21: =Expenditure!O70 -> 60 | I21: =D21-B21 -> 60 | J21: 0
A22: Grass Cutting | B22: 2715.61 | D22: =Expenditure!R70 -> 2613.97 | I22: =D22-B22 -> -101.64 | J22: =I22/B22 -> -0.037428055
A23: Repirs/ Pruning | B23: 10 | D23: =Expenditure!P70 -> 0 | I23: =D23-B23 -> -10
A24: S137 Grants | B24: 2100 | D24: =Expenditure!S70 -> 2300 | I24: =D24-B24 -> 200 | J24: =I24/B24 -> 0.095238095
A25: Allotment Expenses | B25: 510.84 | D25: =Expenditure!T70 -> 236.15 | I25: =D25-B25 -> -274.69 | J25: =I25/B25 -> -0.53772218
A26: Dog Waste Bins | B26: 411.84 | D26: =Expenditure!U70 -> 434.72 | I26: =D26-B26 -> 22.88 | J26: =I26/B26 -> 0.055555556
A27: Play Equipment & Maintenance | B27: 0 | D27: =Expenditure!V70 -> 0 | I27: =D27-B27 -> 0 | J27: 0
A28: Play Area Inspection | B28: 140 | D28: =Expenditure!W70 -> 150 | I28: =D28-B28 -> 10 | J28: =I28/B28 -> 0.071428571
A29: Other Payments | B29: 529.36 | D29: =Expenditure!X70 -> 0 | I29: =D29-B29 -> -529.36 | J29: =I29/B29 -> -1
A30: VAT | B30: 1317.57 | D30: =Expenditure!J70 -> 861.46 | I30: =D30-B30 -> -456.11 | J30: =I30/B30 -> -0.34617516
A31: Village Hall | B31: 0 | D31: =Expenditure!Y70 -> 417.78 | I31: =D31-B31 -> 417.78 | J31: 1
A32: Elections | B32: 100 | D32: =Expenditure!Z70 -> 0 | I32: =D32-B32 -> -100 | J32: 0
A33: Street Furniture | B33: 2050.27 | D33: =Expenditure!AA70 -> 987.67 | I33: =D33-B33 -> -1062.6 | J33: 0
B34: =SUM(B17:B33) -> 14351.45 | C34: =SUM(C17:C33) -> 0 | D34: =SUM(D17:D33) -> 11881.63 | E34: 45.8 | I34: =D34-B34 -> -2469.82 | J34: =I34/B34 -> -0.1720955
E35: 45.8
E36: 100
E37: 168
E38: 182.8
A39: Balance Brought Forward | B39: 11371.43 | D39: =B43 -> 8262.42 | E39: 182.8
A40: Add:Receipts | B40: =B14 -> 11242.44 | D40: =D14 -> 13721.61 | E40: 198.64
B41: =SUM(B39:B40) -> 22613.87 | D41: =SUM(D39:D40) -> 21984.03 | E41: 454.89
A42: Less: Payments | B42: =B34 -> 14351.45 | D42: =D34 -> 11881.63 | E42: 785.02
...

Sheet Budget 2043-25
B2: 2022-23 | D2: 2023-24 | F2: 2023-24 | H2: 2024-25 | I2: +/- PY | J2: +/- %
B3: FY | D3: YTD | F3: Forecast YE | H3: Budget
A4: Receipts
A5: Precept | B5: 10300 | D5: =Income!E23 -> 10300 | F5: =D5 -> 10300 | H5: 10800 | I5: =D5-B5 -> 0 | J5: =I5/B5 -> 0 | L5: +5%
A6: Grants - Grass Cutting | B6: 709 | D6: =Income!F23 -> 709 | F6: =D6 -> 709 | H6: 709 | I6: =D6-B6 -> 0 | J6: =I6/B6 -> 0
A7: Play Area (Inspection reimbursement) | B7: 0 | D7: =Income!H23 -> 0 | F7: =E7 -> 0 | H7: 0 | I7: =D7-B7 -> 0 | J7: 0
A8: Wayleaves - West Close | B8: 14.94 | D8: =Income!I23 -> 0 | F8: 14.94 | H8: 15 | I8: =D8-B8 -> -14.94 | J8: =I8/B8 -> -1
A9: Bank Interest | B9: 5.5 | D9: =Income!J23 -> 86.71 | F9: =D9*2 -> 173.42 | H9: 2 | I9: =D9-B9 -> 81.21 | J9: =I9/B9 -> 14.765455
A10: Allotment Rents | B10: 185 | D10: =Income!K23 -> 152.28 | F10: =D10*2 -> 304.56 | H10: =D10 -> 152.28 | I10: =D10-B10 -> -32.72 | J10: =I10/B10 -> -0.17686486
A11: Village Hall | B11: 0 | D11: =Income!L23 -> 322.59 | F11: 0 | H11: 0 | I11: =D11-B11 -> 322.59 | J11: 1
A12: Miscellaneous | B12: 28 | D12: =Income!M23 -> 0 | H12: 0 | I12: =D12-B12 -> -28 | J12: 0
A13: VAT Reclaim | B13: 0 | D13: =Income!N23 -> 2151.03 | F13: =D30 -> 861.46 | G13: =E13-F13 -> -861.46 | H13: 800 | I13: =D13-B13 -> 2151.03 | J13: -100%
A14: Total | B14: =SUM(B5:B13) -> 11242.44 | C14: =SUM(C5:C13) -> 0 | D14: =SUM(D5:D13) -> 13721.61 | F14: =SUM(F5:F13) -> 12363.38 | H14: =SUM(H5:H13) -> 12478.28 | I14: =D14-B14 -> 2479.17 | J14: =I14/B14 -> 0.22051886
A16: Payments
A17: Clerk's Salary incl. NI | B17: 3260.52 | D17: =Expenditure!K70 -> 2766.6 | F17: =(D17+246.6)*2 -> 6026.4 | G17: =E17-F17 -> -6026.4 | H17: =(F17*$H$36)+F17 -> 6327.72 | I17: =D17-B17 -> -493.92 | J17: =I17/B17 -> -0.15148504
A18: Clerk's Expenses & Admin | B18: 361 | D18: =Expenditure!L70 -> 286 | F18: 312 | G18: =E18-F18 -> -312 | H18: =26*12 -> 312
A19: Insurance | B19: 554.44 | D19: =Expenditure!M70 -> 537.28 | F19: =D19 -> 537.28 | H19: =(F19*$H$36)+F19 -> 564.144 | I19: =D19-B19 -> -17.16 | J19: =I19/B19 -> -0.030950148
A20: Subscriptions (OALC, CFO, ICO) | B20: 290 | D20: =Expenditure!N70 -> 230 | F20: 290 | H20: =(F20*$H$36)+F20 -> 304.5 | I20: =D20-B20 -> -60 | J20: =I20/B20 -> -0.20689655
A21: Audit fees | B21: 0 | D21: =Expenditure!O70 -> 60 | F21: 60 | H21: 60 | I21: =D21-B21 -> 60 | J21: 0
A22: Grass Cutting | B22: 2715.61 | D22: =Expenditure!R70 -> 2613.97 | F22: =B22 -> 2715.61 | H22: =(F22*$H$36)+F22 -> 2851.3905 | I22: =D22-B22 -> -101.64 | J22: =I22/B22 -> -0.037428055
A23: Repirs/ Pruning | B23: 10 | D23: =Expenditure!P70 -> 0 | F23: 200 | H23: 250 | I23: =D23-B23 -> -10
A24: S137 Grants | B24: 2100 | D24: =Expenditure!S70 -> 2300 | F24: =D24+1300 -> 3600 | H24: 2000 | I24: =D24-B24 -> 200 | J24: =I24/B24 -> 0.095238095
A25: Allotment Expenses | B25: 510.84 | D25: =Expenditure!T70 -> 236.15 | F25: 200 | H25: =(250*$H$36)+250 -> 262.5 | I25: =D25-B25 -> -274.69 | J25: =I25/B25 -> -0.53772218
A26: Dog Waste Bins | B26: 411.84 | D26: =Expenditure!U70 -> 434.72 | F26: =D26+223.08 -> 657.8 | H26: =(F26*$H$36)+F26 -> 690.69 | I26: =D26-B26 -> 22.88 | J26: =I26/B26 -> 0.055555556
A27: Play Equipment & Maintenance | B27: 0 | D27: =Expenditure!V70 -> 0 | F27: 0 | G27: =E27-F27 -> 0 | H27: 100 | I27: =D27-B27 -> 0 | J27: 0
A28: Play Area Inspection | B28: 140 | D28: =Expenditure!W70 -> 150 | F28: 150 | H28: =(F28*$H$36)+F28 -> 157.5 | I28: =D28-B28 -> 10 | J28: =I28/B28 -> 0.071428571
A29: Other Payments | B29: 529.36 | D29: =Expenditure!X70 -> 0 | F29: 0 | H29: 150 | I29: =D29-B29 -> -529.36 | J29: =I29/B29 -> -1
A30: VAT | B30: 1317.57 | D30: =Expenditure!J70 -> 861.46 | F30: =D30+200 -> 1061.46 | G30: =E30-F30 -> -1061.46 | H30: 800 | I30: =D30-B30 -> -456.11 | J30: =I30/B30 -> -0.34617516
A31: Village Hall | B31: 0 | D31: =Expenditure!Y70 -> 417.78 | F31: 0 | G31: =E31-F31 -> 0 | H31: 0 | I31: =D31-B31 -> 417.78 | J31: 1
A32: Elections | B32: 100 | D32: =Expenditure!Z70 -> 0 | F32: 0 | H32: 0 | I32: =D32-B32 -> -100 | J32: 0
A33: Street Furniture | B33: 2050.27 | D33: =Expenditure!AA70 -> 987.67 | F33: =D33 -> 987.67 | H33: 150 | I33: =D33-B33 -> -1062.6 | J33: 0
B34: =SUM(B17:B33) -> 14351.45 | C34: =SUM(C17:C33) -> 0 | D34: =SUM(D17:D33) -> 11881.63 | E34: 45.8 | F34: =SUM(F17:F33) -> 16798.22 | H34: =SUM(H17:H33) -> 14980.444 | I34: =D34-B34 -> -2469.82 | J34: =I34/B34 -> -0.1720955
E35: 45.8
E36: 100 | H36: 0.05
E37: 168 | G37: =E37-F37 -> 168
E38: 182.8
A39: Balance Brought Forward | B39: 11371.43 | D39: =B43 -> 8262.42 | E39: 182.8 | F39: =B43 -> 8262.42 | H39: =F43 -> 3827.58
A40: Add:Receipts | B40: =B14 -> 11242.44 | D40: =D14 -> 13721.61 | E40: 198.64 | F40: =F14 -> 12363.38 | G40: =G14 -> 0 | H40: =H14 -> 12478.28
B41: =SUM(B39:B40) -> 22613.87 | D41: =SUM(D39:D40) -> 21984.03 | E41: 454.89 | F41: =SUM(F39:F40) -> 20625.8 | G41: =SUM(G39:G40) -> 0 | H41: =SUM(H39:H40) -> 16305.86
A42: Less: Payments | B42: =B34 -> 14351.45 | D42: =D34 -> 11881.63 | E42: 785.02 | F42: =F34 -> 16798.22 | G42: =G34 -> 0 | H42: =H34 -> 14980.444
...

Sheet Bank Reconciliation
A1: Bank Balances as at 31/03/2024
B2: Community Account ( 80706973) | C2: 1793.12
B3: Business Saver Account (80401765) | C3: 8309.28
D4: =SUM(C2:C3) -> 10102.4
A6: Less: Unpresented cheques
D12: =SUM(C7:C11) -> 0
D13: =D4-D12 -> 10102.4
A14: Add: Uncleared payments
D20: =SUM(C15:C19) -> 0
D21: =D13+D20 -> 10102.4
A22: Add: Short term investments
B23: Detail | C23: 0
B24: Detail | C24: 0
B25: Detail | C25: 0
D26: =SUM(C23:C25) -> 0
A27: Total | D27: =D21+D26 -> 10102.4
A29: What is the figure in Box 8 in section 2 of the annual return ?
A31: Does the total equal Box 8 in section 2 of the annual return ?

Sheet Budget 2023-24
B1: 2021-22 | D1: 2022-23 | F1: 2022-23 | H1: 2022-23 | J1: 2023-24 | K1: +/- PY | L1: +/- %
B2: FY | D2: Budget | F2: YTD | H2: Forecast YE | J2: Budget
A3: Receipts
A4: Precept | B4: 10000 | D4: 10300 | F4: 10300 | H4: =F4 -> 10300 | J4: 10300 | K4: =F4-B4 -> 300 | L4: =K4/B4 -> 0.03
A5: Grants - Grass Cutting | B5: 709 | D5: 709 | F5: 709 | H5: =F5 -> 709 | J5: 709 | K5: =F5-B5 -> 0 | L5: =K5/B5 -> 0
A6: Play Area (Inspection reimbursement) | B6: 0 | F6: 0 | H6: =F6 -> 0 | J6: 0 | K6: =F6-B6 -> 0 | L6: 0
A7: Wayleaves - West Close | B7: 17.63 | D7: 18 | F7: 14.94 | H7: =F7 -> 14.94 | J7: 15 | K7: =F7-B7 -> -2.69 | L7: =K7/B7 -> -0.15258083
A8: Bank Interest | B8: 0.24 | D8: 0 | F8: 0.97 | H8: =F8+0.78 -> 1.75 | J8: 2 | K8: =F8-B8 -> 0.73 | L8: =K8/B8 -> 3.0416667
A9: Allotment Rents | B9: 90 | D9: 300 | F9: 185 | H9: =F9+300 -> 485 | J9: 300 | K9: =F9-B9 -> 95 | L9: =K9/B9 -> 1.0555556
A10: Village Hall | B10: 1069.75 | D10: 0 | F10: 0 | H10: =F10 -> 0 | J10: 0 | K10: =F10-B10 -> -1069.75 | L10: 1
A11: Miscellaneous | B11: 0 | F11: 28 | H11: =F11 -> 28 | J11: 0 | K11: =F11-B11 -> 28 | L11: 0
A12: VAT Reclaim | B12: 2932.53 | D12: 895 | F12: 0 | H12: =F29+12.05 -> 798.72 | I12: =G12-H12 -> -798.72 | J12: 800 | K12: =F12-B12 -> -2932.53 | L12: -100%
A13: Total | B13: =SUM(B4:B12) -> 14819.15 | C13: =SUM(C4:C12) -> 0 | D13: =SUM(D4:D12) -> 12222 | F13: =SUM(F4:F12) -> 11237.91 | H13: =SUM(H4:H12) -> 12337.41 | J13: =SUM(J4:J12) -> 12126 | K13: =F13-B13 -> -3581.24 | L13: =K13/B13 -> -0.24166298
A15: Payments
A16: Clerk's Salary incl. NI | B16: 2217.24 | D16: 2777 | F16: 2273.92 | H16: =F16+914.4 -> 3188.32 | I16: =G16-H16 -> -3188.32 | J16: =((228.6*J35)+228.6)*12 -> 2880.36 | K16: =F16-B16 -> 56.68 | L16: =K16/B16 -> 0.025563313
A17: Clerk's Expenses & Admin | B17: 406.95 | D17: 350 | F17: 257 | H17: =F17+104 -> 361 | I17: =G17-H17 -> -361 | J17: =26*12+38 -> 350
A18: Insurance | B18: 549.82 | D18: 566 | F18: 554.44 | H18: =F18 -> 554.44 | J18: =(H18*J35)+H18 -> 582.162 | K18: =F18-B18 -> 4.62 | L18: =K18/B18 -> 0.00840275
A19: Subscriptions (OALC, CFO, ICO) | B19: 90 | D19: 218 | F19: 160 | H19: =F19 -> 160 | J19: =(H19*$J$35)+H19 -> 168 | K19: =F19-B19 -> 70 | L19: =K19/B19 -> 0.77777778
A20: Audit fees | B20: 260 | D20: 268 | F20: 0 | H20: =F20 -> 0 | J20: 60 | K20: =F20-B20 -> -260 | L20: 0
A21: Grass Cutting | B21: 3223.95 | D21: 3236 | F21: 2715.61 | H21: =F21+48.76 -> 2764.37 | J21: =(H21*$J$35)+H21 -> 2902.5885 | K21: =F21-B21 -> -508.34 | L21: =K21/B21 -> -0.15767614
A22: Repirs/ Pruning | B22: 0 | D22: 250 | F22: 10 | H22: =F22 -> 10 | J22: 250 | K22: =F22-B22 -> 10
A23: S137 Grants | B23: 1806.25 | D23: 2060 | F23: 2000 | H23: =F23 -> 2000 | J23: 2000 | K23: =F23-B23 -> 193.75 | L23: =K23/B23 -> 0.10726644
A24: Allotment Expenses | B24: 25 | D24: 225 | F24: 511.39 | H24: =F24+11.5 -> 522.89 | J24: =(250*$J$35)+250 -> 262.5 | K24: =F24-B24 -> 486.39 | L24: =K24/B24 -> 19.4556
A25: Dog Waste Bins | B25: 400.95 | D25: 413 | F25: 200.2 | H25: =F25*2 -> 400.4 | J25: =(H25*$J$35)+H25 -> 420.42 | K25: =F25-B25 -> -200.75 | L25: =K25/B25 -> -0.50068587
A26: Play Equipment & Maintenance | B26: 0 | D26: 200 | F26: 0 | H26: 50 | I26: =G26-H26 -> -50 | J26: 100 | K26: =F26-B26 -> 0 | L26: 0
A27: Play Area Inspection | B27: 137 | D27: 141 | F27: 140 | H27: =F27 -> 140 | J27: =(H27*$J$35)+H27 -> 147 | K27: =F27-B27 -> 3 | L27: =K27/B27 -> 0.02189781
A28: Other Payments | B28: 0 | D28: 150 | F28: 278.36 | H28: =F28 -> 278.36 | J28: 150 | K28: =F28-B28 -> 278.36 | L28: =K28/B28 -> #DIV/0!
A29: VAT | B29: 1448.01 | D29: 895 | F29: 786.67 | H29: =F29+12 -> 798.67 | I29: =G29-H29 -> -798.67 | J29: 800 | K29: =F29-B29 -> -661.34 | L29: =K29/B29 -> -0.45672337
A30: Village Hall | B30: 1983.93 | D30: 0 | F30: 0 | H30: =F30 -> 0 | I30: =G30-H30 -> 0 | J30: 0 | K30: =F30-B30 -> -1983.93 | L30: 1
A31: Elections | B31: 0 | D31: 300 | F31: 100 | H31: =F31 -> 100 | J31: 0 | K31: =F31-B31 -> 100 | L31: 0
A32: Street Furniture | B32: 1222.13 | D32: 150 | F32: 0 | H32: 1937.83 | J32: 150 | K32: =F32-B32 -> -1222.13 | L32: 0
B33: =SUM(B16:B32) -> 13771.23 | C33: =SUM(C16:C32) -> 0 | D33: =SUM(D16:D32) -> 12199 | E33: =SUM(E16:E32) -> 0 | F33: =SUM(F16:F32) -> 9987.59 | G33: 45.8 | H33: =SUM(H16:H32) -> 13266.28 | J33: =SUM(J16:J32) -> 11223.031 | K33: =F33-B33 -> -3783.64 | L33: =K33/B33 -> -0.2747496
G34: 45.8
G35: 100 | J35: 0.05
G36: 168 | I36: =G36-H36 -> 168
G37: 182.8
A38: Balance Brought Forward | B38: 10323.51 | G38: 182.8 | H38: =B42 -> 11371.43 | J38: =H42 -> 10442.56
A39: Add:Receipts | B39: =B13 -> 14819.15 | G39: 198.64 | H39: =H13 -> 12337.41 | I39: =I13 -> 0 | J39: =J13 -> 12126
B40: =SUM(B38:B39) -> 25142.66 | G40: 454.89 | H40: =SUM(H38:H39) -> 23708.84 | I40: =SUM(I38:I39) -> 0 | J40: =SUM(J38:J39) -> 22568.56
A41: Less: Payments | B41: =B33 -> 13771.23 | G41: 785.02 | H41: =H33 -> 13266.28 | I41: =I33 -> 0 | J41: =J33 -> 11223.031
...
