Workbook

Sheet Income
A1: Date Credited to Bank Account | B1: From | D1: £ | E1: Precept | F1: Grants - Grass Cutting | G1: Grants - Miscellaneous | H1: Play Area | I1: Wayleaves | J1: Bank Interest | K1: Allotment Fees | L1: Village Hall | M1: Miscellaneous | N1: VAT Refund
A2: 44662 | B2: PS&NC Preece | C2: Allotment Rent | D2: 15 | K2: =D2 -> 15
A3: 44664 | B3: CDC | C3: Precept | D3: 5150 | E3: =D3 -> 5150
A4: 44670 | B4: Various | C4: Allotment Rent | D4: 170 | K4: =D4 -> 170
A5: 44713 | B5: OCC | C5: Grass Cutting Grant | D5: 709 | F5: =D5 -> 709
A6: 44718 | B6: Barclays | C6: Interest | D6: 0.19 | J6: =D6 -> 0.19
A7: 44733 | B7: Western Power | C7: Wayleave | D7: 14.94 | I7: =D7 -> 14.94
A8: 44809 | B8: Barclays | C8: Interest | D8: 0.78 | J8: =D8 -> 0.78
A9: 44812 | B9: Various | C9: Mugs | D9: 28 | M9: =D9 -> 28
A10: 44818 | B10: CDC | C10: Precept | D10: 5150 | E10: =D10 -> 5150
A11: 45265 | B11: Barclays | C11: Interest | D11: 1.4 | J11: =D11 -> 1.4
A12: 44991 | B12: Barclays | C12: Interest | D12: 3.13 | J12: =D12 -> 3.13
D29: =SUM(D2:D28) -> 11242.44 | E29: =SUM(E2:E28) -> 10300 | F29: =SUM(F2:F28) -> 709 | G29: =SUM(G2:G28) -> 0 | H29: =SUM(H2:H28) -> 0 | I29: =SUM(I2:I28) -> 14.94 | J29: =SUM(J2:J28) -> 5.5 | K29: =SUM(K2:K28) -> 185 | ... N29: =SUM(N2:N28) -> 0 | P29: =SUM(E29:N29) -> 11242.44
A30: Less:Precept | D30: =E29 -> 10300
D31: =D29-D30 -> 942.44

Sheet Expenditure
A1: Date Banked | B1: Cheque No | C1: Invoice Date | D1: VAT No. | E1: Payee | G1: £ | H1: Ex VAT | I1: VAT | J1: Payroll | K1: Expenses (administration) | L1: Insurance | M1: Subscriptions | N1: Audit & ICO Fees | O1: Repairs/ Pruning | P1: Donations | Q1: Grass Cutting | R1: Grants | S1: Allotment Expenses | T1: Dog Bin Emptying | U1: Play Equipment/Reps | V1: Play Area Inspection | W1: Other | X1: Village Hall | Y1: Elections | Z1: Street Furniture
A2: 44662 | E2: Cubicilo | F2: Oiling Benches | G2: 10 | O2: =G2 -> 10
A3: 44662 | E3: D Best | F3: Homeworking - Jan | G3: 25 | K3: =G3 -> 25
A4: 44662 | E4: D Best | F4: Homeworking - Feb | G4: 25 | K4: =G4 -> 25
A5: 44662 | E5: D Best | F5: Homeworking - Mar | G5: 25 | K5: =G5 -> 25
A6: 44662 | E6: HMRC | F6: PAYE - Mar | G6: 44.8 | J6: =G6 -> 44.8
A7: 44662 | E7: HMRC | F7: PAYE - Jan | G7: 45 | J7: =G7 -> 45
A8: 44662 | E8: HMRC | F8: PAYE - Feb | G8: 45 | J8: =G8 -> 45
A9: 44662 | C9: 44621 | D9: 685644393 | E9: OALC | F9: Subscription | G9: 150 | H9: 125 | I9: =G9-H9 -> 25 | M9: =H9 -> 125
A10: 44662 | E10: D Best | F10: Pay - Jan | G10: 179.64 | J10: =G10 -> 179.64
A11: 44662 | E11: D Best | F11: Pay - Feb | G11: 179.64 | J11: =G11 -> 179.64
A12: 44662 | E12: D Best | F12: Pay - Mar | G12: 179.84 | J12: =G12 -> 179.84
A13: 44662 | C13: 44655 | D13: 121588477 | E13: CDC | F13: Dog Bin Emptying | G13: 240.24 | H13: 200.2 | I13: =G13-H13 -> 40.04 | T13: =H13 -> 200.2
A14: 44662 | E14: Zurich | F14: Insurance | G14: 544.44 | L14: =G14 -> 544.44
A15: 44662 | E15: Barford News | F15: Grant | G15: 700 | R15: =G15 -> 700
A16: 44662 | E16: Barford PCC | F16: Grant | G16: 1300 | R16: =G16 -> 1300
A17: 44670 | C17: 44677 | D17: 373134411 | E17: Insignia | F17: Jubilee ugs | G17: 335.23 | H17: 279.36 | I17: =G17-H17 -> 55.87 | W17: =H17 -> 279.36
A18: 44697 | E18: D Best | F18: Homeworking - April | G18: 26 | K18: =G18 -> 26
A19: 44697 | E19: HMRC | F19: PAYE - April | G19: 45.6 | J19: =G19 -> 45.6
A20: 44697 | E20: D Best | F20: Pay - April | G20: 183 | J20: =G20 -> 183
A21: 44697 | C21: 44679 | D21: 729478095 | E21: Thomas Fox | F21: Mowing - 33879 | G21: 622.28 | H21: 518.56 | I21: =G21-H21 -> 103.72 | Q21: =H21 -> 518.56
A22: 44764 | E22: Zurich | F22: Underpayment | G22: 10 | L22: =G22 -> 10
A23: 44764 | E23: D Best | F23: Homeworking - May | G23: 26 | K23: =G23 -> 26
A24: 44764 | E24: D Best | F24: Homeworking - Jun | G24: 26 | K24: =G24 -> 26
A25: 44764 | E25: HMRC | F25: PAYE - May | G25: 45.8 | J25: =G25 -> 45.8
A26: 44764 | E26: HMRC | F26: PAYE - Jun | G26: 45.8 | J26: =G26 -> 45.8
A27: 44764 | C27: 44741 | D27: 729478095 | E27: Thomas Fox | F27: Mowing - 34517 | G27: 143.63 | H27: 119.69 | I27: =G27-H27 -> 23.94 | Q27: =H27 -> 119.69
A28: 44764 | E28: D Best | F28: Pay - May | G28: 182.8 | J28: =G28 -> 182.8
A29: 44764 | E29: D Best | F29: Pay - Jun | G29: 182.8 | J29: =G29 -> 182.8
A30: 44764 | C30: 44706 | D30: 319427788 | E30: Castle Water | F30: Water for 2021-22 | G30: 289.03 | H30: 240.86 | I30: =G30-H30 -> 48.17 | S30: =H30 -> 240.86
A31: 44764 | C31: 44711 | D31: 729478095 | E31: Thomas Fox | F31: Mowing - 34254 | G31: 454.89 | H31: 379.07 | I31: =G31-H31 -> 75.82 | Q31: =H31 -> 379.07
A32: 44813 | E32: D Best | F32: Homeworking - Jul | G32: 26 | K32: =G32 -> 26
A33: 44813 | E33: D Best | F33: Homeworking - Aug | G33: 26 | K33: =G33 -> 26
A34: 44813 | E34: HMRC | F34: PAYE - Jul | G34: 45.8 | J34: =G34 -> 45.8
A35: 44813 | E35: HMRC | F35: PAYE - Aug | G35: 45.8 | J35: =G35 -> 45.8
A36: 44813 | E36: CDC | F36: Uncontested Election | G36: 100 | Y36: =G36 -> 100
A37: 44813 | C37: 44782 | D37: 876328389 | E37: Playsafety | F37: Inspections | G37: 168 | H37: 140 | I37: =G37-H37 -> 28 | V37: =H37 -> 140
A38: 44813 | E38: D Best | F38: Pay - Jul | G38: 182.8 | J38: =G38 -> 182.8
A39: 44813 | E39: D Best | F39: Pay - Aug | G39: 182.8 | J39: =G39 -> 182.8
A40: 44813 | C40: 44797 | D40: 319427788 | E40: Castle Water | F40: Water for 2022-23 | G40: 198.64 | H40: 165.53 | I40: =G40-H40 -> 33.11 | S40: =H40 -> 165.53
...

Sheet Accounts 2022-23
B1: 2021-22 | D1: 2022-23 | F1: 2022-23 | H1: 2022-23 | J1: 2023-24 | K1: +/- PY | L1: +/- %
B2: FY | D2: Budget | F2: YTD | H2: Forecast YE | J2: Budget
A3: Receipts
A4: Precept | B4: 10000 | D4: 10300 | F4: =Income!E29 -> 10300 | H4: =F4 -> 10300 | J4: 10600 | K4: =F4-B4 -> 300 | L4: =K4/B4 -> 0.03
A5: Grants - Grass Cutting | B5: 709 | D5: 709 | F5: =Income!F29 -> 709 | H5: =F5 -> 709 | J5: 709 | K5: =F5-B5 -> 0 | L5: =K5/B5 -> 0
A6: Play Area (Inspection reimbursement) | B6: 0 | F6: =Income!H29 -> 0 | H6: =F6 -> 0 | J6: 0 | K6: =F6-B6 -> 0 | L6: 0
A7: Wayleaves - West Close | B7: 17.63 | D7: 18 | F7: =Income!I29 -> 14.94 | H7: =F7 -> 14.94 | J7: 15 | K7: =F7-B7 -> -2.69 | L7: =K7/B7 -> -0.15258083
A8: Bank Interest | B8: 0.24 | D8: 0 | F8: =Income!J29 -> 5.5 | H8: =F8+0.78 -> 6.28 | J8: 2 | K8: =F8-B8 -> 5.26 | L8: =K8/B8 -> 21.916667
A9: Allotment Rents | B9: 90 | D9: 300 | F9: =Income!K29 -> 185 | H9: =F9+300 -> 485 | J9: 300 | K9: =F9-B9 -> 95 | L9: =K9/B9 -> 1.0555556
A10: Village Hall | B10: 1069.75 | D10: 0 | F10: =Income!L29 -> 0 | H10: =F10 -> 0 | J10: 0 | K10: =F10-B10 -> -1069.75 | L10: 1
A11: Miscellaneous | B11: 0 | F11: =Income!M29 -> 28 | H11: =F11 -> 28 | J11: 0 | K11: =F11-B11 -> 28 | L11: 0
A12: VAT Reclaim | B12: 2932.53 | D12: 895 | F12: =Income!N29 -> 0 | H12: =F29+12.05 -> 1329.62 | I12: =G12-H12 -> -1329.62 | J12: 800 | K12: =F12-B12 -> -2932.53 | L12: -100%
A13: Total | B13: =SUM(B4:B12) -> 14819.15 | C13: =SUM(C4:C12) -> 0 | D13: =SUM(D4:D12) -> 12222 | F13: =SUM(F4:F12) -> 11242.44 | H13: =SUM(H4:H12) -> 12872.84 | J13: =SUM(J4:J12) -> 12426 | K13: =F13-B13 -> -3576.71 | L13: =K13/B13 -> -0.2413573
A15: Payments
A16: Clerk's Salary incl. NI | B16: 2217.24 | D16: 2777 | F16: =Expenditure!J76 -> 3260.52 | H16: =F16+914.4 -> 4174.92 | I16: =G16-H16 -> -4174.92 | J16: =((228.6*J35)+228.6)*12 -> 2880.36 | K16: =F16-B16 -> 1043.28 | L16: =K16/B16 -> 0.47053093
A17: Clerk's Expenses & Admin | B17: 406.95 | D17: 350 | F17: =Expenditure!K76 -> 361 | H17: =F17+104 -> 465 | I17: =G17-H17 -> -465 | J17: =26*12+38 -> 350
A18: Insurance | B18: 549.82 | D18: 566 | F18: =Expenditure!L76 -> 554.44 | H18: =F18 -> 554.44 | J18: =(H18*J35)+H18 -> 582.162 | K18: =F18-B18 -> 4.62 | L18: =K18/B18 -> 0.00840275
A19: Subscriptions (OALC, CFO, ICO) | B19: 90 | D19: 218 | F19: =Expenditure!M76 -> 290 | H19: =F19 -> 290 | J19: =(H19*$J$35)+H19 -> 304.5 | K19: =F19-B19 -> 200 | L19: =K19/B19 -> 2.2222222
A20: Audit fees | B20: 260 | D20: 268 | F20: =Expenditure!N76 -> 0 | H20: =F20 -> 0 | J20: 60 | K20: =F20-B20 -> -260 | L20: 0
A21: Grass Cutting | B21: 3223.95 | D21: 3236 | F21: =Expenditure!Q76 -> 2715.61 | H21: =F21+48.76 -> 2764.37 | J21: =(H21*$J$35)+H21 -> 2902.5885 | K21: =F21-B21 -> -508.34 | L21: =K21/B21 -> -0.15767614
A22: Repirs/ Pruning | B22: 0 | D22: 250 | F22: =Expenditure!O76 -> 10 | H22: =F22 -> 10 | J22: 250 | K22: =F22-B22 -> 10
A23: S137 Grants | B23: 1806.25 | D23: 2060 | F23: =Expenditure!R76 -> 2100 | H23: =F23 -> 2100 | J23: 2000 | K23: =F23-B23 -> 293.75 | L23: =K23/B23 -> 0.16262976
A24: Allotment Expenses | B24: 25 | D24: 225 | F24: =Expenditure!S76 -> 510.84 | H24: =F24+11.5 -> 522.34 | J24: =(250*$J$35)+250 -> 262.5 | K24: =F24-B24 -> 485.84 | L24: =K24/B24 -> 19.4336
A25: Dog Waste Bins | B25: 400.95 | D25: 413 | F25: =Expenditure!T76 -> 411.84 | H25: =F25*2 -> 823.68 | J25: =(H25*$J$35)+H25 -> 864.864 | K25: =F25-B25 -> 10.89 | L25: =K25/B25 -> 0.027160494
A26: Play Equipment & Maintenance | B26: 0 | D26: 200 | F26: =Expenditure!U76 -> 0 | H26: 50 | I26: =G26-H26 -> -50 | J26: 100 | K26: =F26-B26 -> 0 | L26: 0
A27: Play Area Inspection | B27: 137 | D27: 141 | F27: =Expenditure!V76 -> 140 | H27: =F27 -> 140 | J27: =(H27*$J$35)+H27 -> 147 | K27: =F27-B27 -> 3 | L27: =K27/B27 -> 0.02189781
A28: Other Payments | B28: 0 | D28: 150 | F28: =Expenditure!W76 -> 529.36 | H28: =F28 -> 529.36 | J28: 150 | K28: =F28-B28 -> 529.36 | L28: =K28/B28 -> #DIV/0!
A29: VAT | B29: 1448.01 | D29: 895 | F29: =Expenditure!I76 -> 1317.57 | H29: =F29+12 -> 1329.57 | I29: =G29-H29 -> -1329.57 | J29: 800 | K29: =F29-B29 -> -130.44 | L29: =K29/B29 -> -0.090082251
A30: Village Hall | B30: 1983.93 | D30: 0 | F30: =Expenditure!X76 -> 0 | H30: =F30 -> 0 | I30: =G30-H30 -> 0 | J30: 0 | K30: =F30-B30 -> -1983.93 | L30: 1
A31: Elections | B31: 0 | D31: 300 | F31: =Expenditure!Y76 -> 100 | H31: =F31 -> 100 | J31: 0 | K31: =F31-B31 -> 100 | L31: 0
A32: Street Furniture | B32: 1222.13 | D32: 150 | F32: =Expenditure!Z76 -> 2050.27 | H32: 1211 | J32: 150 | K32: =F32-B32 -> 828.14 | L32: 0
B33: =SUM(B16:B32) -> 13771.23 | C33: =SUM(C16:C32) -> 0 | D33: =SUM(D16:D32) -> 12199 | E33: =SUM(E16:E32) -> 0 | F33: =SUM(F16:F32) -> 14351.45 | G33: 45.8 | H33: =SUM(H16:H32) -> 15064.68 | J33: =SUM(J16:J32) -> 11803.974 | K33: =F33-B33 -> 580.22 | L33: =K33/B33 -> 0.042132765
G34: 45.8
G35: 100 | J35: 0.05
G36: 168 | I36: =G36-H36 -> 168
G37: 182.8
A38: Balance Brought Forward | B38: 10323.51 | F38: =B42 -> 11371.43 | G38: 182.8 | H38: =B42 -> 11371.43 | J38: =H42 -> 9179.59
A39: Add:Receipts | B39: =B13 -> 14819.15 | F39: =F13 -> 11242.44 | G39: 198.64 | H39: =H13 -> 12872.84 | I39: =I13 -> 0 | J39: =J13 -> 12426
B40: =SUM(B38:B39) -> 25142.66 | F40: =SUM(F38:F39) -> 22613.87 | G40: 454.89 | H40: =SUM(H38:H39) -> 24244.27 | I40: =SUM(I38:I39) -> 0 | J40: =SUM(J38:J39) -> 21605.59
A41: Less: Payments | B41: =B33 -> 13771.23 | F41: =F33 -> 14351.45 | G41: 785.02 | H41: =H33 -> 15064.68 | I41: =I33 -> 0 | J41: =J33 -> 11803.974
...

Sheet Bank Reconciliation
A1: Bank Balances as at 31st March 2023
B2: Community Account ( 80706973) | C2: 5739.85
B3: Business Saver Account (80401765) | C3: 2522.57
D4: =SUM(C2:C3) -> 8262.42
A6: Less: Unpresented cheques
B7: Detail | C7: 0
B8: Detail | C8: 0
B9: Detail | C9: 0
D10: =SUM(C7:C9) -> 0
D11: =D4-D10 -> 8262.42
A12: Add: Uncleared paymentss
B13: Detail | C13: 0
B14: Detail | C14: 0
B15: Detail | C15: 0
D16: =SUM(C13:C15) -> 0
D17: =D11+D16 -> 8262.42
A18: Add: Short term investments
B19: Detail | C19: 0
B20: Detail | C20: 0
B21: Detail | C21: 0
D22: =SUM(C19:C21) -> 0
A23: Total | D23: =D17+D22 -> 8262.42
A25: What is the figure in Box 8 in section 2 of the annual return ? | D25: =D23 -> 8262.42
A27: Does the total equal Box 8 in section 2 of the annual return ? | D27: Yes

Sheet Budget 2023-24
B1: 2021-22 | D1: 2022-23 | F1: 2022-23 | H1: 2022-23 | J1: 2023-24 | K1: +/- PY | L1: +/- %
B2: FY | D2: Budget | F2: YTD | H2: Forecast YE | J2: Budget
A3: Receipts
A4: Precept | B4: 10000 | D4: 10300 | F4: 10300 | H4: =F4 -> 10300 | J4: 10300 | K4: =F4-B4 -> 300 | L4: =K4/B4 -> 0.03
A5: Grants - Grass Cutting | B5: 709 | D5: 709 | F5: 709 | H5: =F5 -> 709 | J5: 709 | K5: =F5-B5 -> 0 | L5: =K5/B5 -> 0
A6: Play Area (Inspection reimbursement) | B6: 0 | F6: 0 | H6: =F6 -> 0 | J6: 0 | K6: =F6-B6 -> 0 | L6: 0
A7: Wayleaves - West Close | B7: 17.63 | D7: 18 | F7: 14.94 | H7: =F7 -> 14.94 | J7: 15 | K7: =F7-B7 -> -2.69 | L7: =K7/B7 -> -0.15258083
A8: Bank Interest | B8: 0.24 | D8: 0 | F8: 0.97 | H8: =F8+0.78 -> 1.75 | J8: 2 | K8: =F8-B8 -> 0.73 | L8: =K8/B8 -> 3.0416667
A9: Allotment Rents | B9: 90 | D9: 300 | F9: 185 | H9: =F9+300 -> 485 | J9: 300 | K9: =F9-B9 -> 95 | L9: =K9/B9 -> 1.0555556
A10: Village Hall | B10: 1069.75 | D10: 0 | F10: 0 | H10: =F10 -> 0 | J10: 0 | K10: =F10-B10 -> -1069.75 | L10: 1
A11: Miscellaneous | B11: 0 | F11: 28 | H11: =F11 -> 28 | J11: 0 | K11: =F11-B11 -> 28 | L11: 0
A12: VAT Reclaim | B12: 2932.53 | D12: 895 | F12: 0 | H12: =F29+12.05 -> 798.72 | I12: =G12-H12 -> -798.72 | J12: 800 | K12: =F12-B12 -> -2932.53 | L12: -100%
A13: Total | B13: =SUM(B4:B12) -> 14819.15 | C13: =SUM(C4:C12) -> 0 | D13: =SUM(D4:D12) -> 12222 | F13: =SUM(F4:F12) -> 11237.91 | H13: =SUM(H4:H12) -> 12337.41 | J13: =SUM(J4:J12) -> 12126 | K13: =F13-B13 -> -3581.24 | L13: =K13/B13 -> -0.24166298
A15: Payments
A16: Clerk's Salary incl. NI | B16: 2217.24 | D16: 2777 | F16: 2273.92 | H16: =F16+914.4 -> 3188.32 | I16: =G16-H16 -> -3188.32 | J16: =((228.6*J35)+228.6)*12 -> 2880.36 | K16: =F16-B16 -> 56.68 | L16: =K16/B16 -> 0.025563313
A17: Clerk's Expenses & Admin | B17: 406.95 | D17: 350 | F17: 257 | H17: =F17+104 -> 361 | I17: =G17-H17 -> -361 | J17: =26*12+38 -> 350
A18: Insurance | B18: 549.82 | D18: 566 | F18: 554.44 | H18: =F18 -> 554.44 | J18: =(H18*J35)+H18 -> 582.162 | K18: =F18-B18 -> 4.62 | L18: =K18/B18 -> 0.00840275
A19: Subscriptions (OALC, CFO, ICO) | B19: 90 | D19: 218 | F19: 160 | H19: =F19 -> 160 | J19: =(H19*$J$35)+H19 -> 168 | K19: =F19-B19 -> 70 | L19: =K19/B19 -> 0.77777778
A20: Audit fees | B20: 260 | D20: 268 | F20: 0 | H20: =F20 -> 0 | J20: 60 | K20: =F20-B20 -> -260 | L20: 0
A21: Grass Cutting | B21: 3223.95 | D21: 3236 | F21: 2715.61 | H21: =F21+48.76 -> 2764.37 | J21: =(H21*$J$35)+H21 -> 2902.5885 | K21: =F21-B21 -> -508.34 | L21: =K21/B21 -> -0.15767614
A22: Repirs/ Pruning | B22: 0 | D22: 250 | F22: 10 | H22: =F22 -> 10 | J22: 250 | K22: =F22-B22 -> 10
A23: S137 Grants | B23: 1806.25 | D23: 2060 | F23: 2000 | H23: =F23 -> 2000 | J23: 2000 | K23: =F23-B23 -> 193.75 | L23: =K23/B23 -> 0.10726644
A24: Allotment Expenses | B24: 25 | D24: 225 | F24: 511.39 | H24: =F24+11.5 -> 522.89 | J24: =(250*$J$35)+250 -> 262.5 | K24: =F24-B24 -> 486.39 | L24: =K24/B24 -> 19.4556
A25: Dog Waste Bins | B25: 400.95 | D25: 413 | F25: 200.2 | H25: =F25*2 -> 400.4 | J25: =(H25*$J$35)+H25 -> 420.42 | K25: =F25-B25 -> -200.75 | L25: =K25/B25 -> -0.50068587
A26: Play Equipment & Maintenance | B26: 0 | D26: 200 | F26: 0 | H26: 50 | I26: =G26-H26 -> -50 | J26: 100 | K26: =F26-B26 -> 0 | L26: 0
A27: Play Area Inspection | B27: 137 | D27: 141 | F27: 140 | H27: =F27 -> 140 | J27: =(H27*$J$35)+H27 -> 147 | K27: =F27-B27 -> 3 | L27: =K27/B27 -> 0.02189781
A28: Other Payments | B28: 0 | D28: 150 | F28: 278.36 | H28: =F28 -> 278.36 | J28: 150 | K28: =F28-B28 -> 278.36 | L28: =K28/B28 -> #DIV/0!
A29: VAT | B29: 1448.01 | D29: 895 | F29: 786.67 | H29: =F29+12 -> 798.67 | I29: =G29-H29 -> -798.67 | J29: 800 | K29: =F29-B29 -> -661.34 | L29: =K29/B29 -> -0.45672337
A30: Village Hall | B30: 1983.93 | D30: 0 | F30: 0 | H30: =F30 -> 0 | I30: =G30-H30 -> 0 | J30: 0 | K30: =F30-B30 -> -1983.93 | L30: 1
A31: Elections | B31: 0 | D31: 300 | F31: 100 | H31: =F31 -> 100 | J31: 0 | K31: =F31-B31 -> 100 | L31: 0
A32: Street Furniture | B32: 1222.13 | D32: 150 | F32: 0 | H32: 1937.83 | J32: 150 | K32: =F32-B32 -> -1222.13 | L32: 0
B33: =SUM(B16:B32) -> 13771.23 | C33: =SUM(C16:C32) -> 0 | D33: =SUM(D16:D32) -> 12199 | E33: =SUM(E16:E32) -> 0 | F33: =SUM(F16:F32) -> 9987.59 | G33: 45.8 | H33: =SUM(H16:H32) -> 13266.28 | J33: =SUM(J16:J32) -> 11223.031 | K33: =F33-B33 -> -3783.64 | L33: =K33/B33 -> -0.2747496
G34: 45.8
G35: 100 | J35: 0.05
G36: 168 | I36: =G36-H36 -> 168
G37: 182.8
A38: Balance Brought Forward | B38: 10323.51 | G38: 182.8 | H38: =B42 -> 11371.43 | J38: =H42 -> 10442.56
A39: Add:Receipts | B39: =B13 -> 14819.15 | G39: 198.64 | H39: =H13 -> 12337.41 | I39: =I13 -> 0 | J39: =J13 -> 12126
B40: =SUM(B38:B39) -> 25142.66 | G40: 454.89 | H40: =SUM(H38:H39) -> 23708.84 | I40: =SUM(I38:I39) -> 0 | J40: =SUM(J38:J39) -> 22568.56
A41: Less: Payments | B41: =B33 -> 13771.23 | G41: 785.02 | H41: =H33 -> 13266.28 | I41: =I33 -> 0 | J41: =J33 -> 11223.031
...
