Workbook

Sheet Income
A1: Date Credited to Bank Account | B1: From | D1: £ | E1: Precept | F1: Grants - Grass Cutting | G1: Grants - Miscellaneous | H1: Play Area | I1: Wayleaves | J1: Bank Interest | K1: Allotment Fees | L1: Village Hall | M1: Miscellaneous | N1: VAT Refund
A2: 44300 | D2: 17.63 | I2: =D2 -> 17.63
A3: 44305 | B3: Cherwell | C3: Precept | D3: 5000 | E3: =D3 -> 5000
A4: 44340 | B4: OCC | C4: Grass Cutting Grant | D4: 709 | F4: =D4 -> 709
A5: 44354 | B5: Barclays | C5: Interest | D5: 0.06 | J5: =D5 -> 0.06
A6: 44379 | B6: Village Hall | C6: Reimburse Blinkhorn | D6: 1069.75 | L6: =D6 -> 1069.75
A7: 44445 | B7: Barclays | C7: Interest | D7: 0.06 | J7: =D7 -> 0.06
A8: 44456 | B8: Cherwell | C8: Precept | D8: 5000 | E8: =D8 -> 5000
A9: 44482 | B9: S Ashmall | C9: Allotment Rent | D9: 7.5 | K9: =D9 -> 7.5
A10: 44482 | B10: N Butler | C10: Allotment Rent | D10: 15 | K10: =D10 -> 15
A11: 44482 | B11: N Belson | C11: Allotment Rent | D11: 15 | K11: =D11 -> 15
A12: 44487 | B12: I Hobday | C12: Allotment Rent | D12: 15 | K12: =D12 -> 15
A13: 44866 | B13: B Fryer | D13: 15 | K13: =D13 -> 15
A14: 44508 | B14: J& SE Holmes | D14: 15 | K14: =D14 -> 15
A15: 44509 | B15: HMRC | C15: VAT Refund | D15: 2932.53 | N15: =D15 -> 2932.53
A16: 44536 | B16: Barclays | C16: Interest | D16: 0.06 | J16: =D16 -> 0.06
A17: 44587 | B17: s Nicholls | C17: Allotment Rent | D17: 7.5 | K17: =D17 -> 7.5
A18: 44262 | B18: Barclays | C18: Interest | D18: 0.06 | J18: =D18 -> 0.06
D28: =SUM(D2:D27) -> 14819.15 | E28: =SUM(E2:E27) -> 10000 | F28: =SUM(F2:F27) -> 709 | G28: =SUM(G2:G27) -> 0 | H28: =SUM(H2:H27) -> 0 | I28: =SUM(I2:I27) -> 17.63 | J28: =SUM(J2:J27) -> 0.24 | K28: =SUM(K2:K27) -> 90 | ... N28: =SUM(N2:N27) -> 2932.53 | P28: =SUM(E28:N28) -> 14819.15
A29: Less:Precept | D29: =E28 -> 10000
D30: =D28-D29 -> 4819.15

Sheet Expenditure
A1: Date Banked | B1: Cheque No | C1: Invoice Date | D1: VAT No. | E1: Payee | G1: £ | H1: Ex VAT | I1: VAT | J1: Payroll | K1: Expenses (administration) | L1: Insurance | M1: Subscriptions | N1: Audit & ICO Fees | O1: Repairs/ Pruning | P1: Donations | Q1: Grass Cutting | R1: Grants | S1: Allotment Expenses | T1: Dog Bin Emptying | U1: Play Equipment/Reps | V1: Play Area Inspection | W1: Other | X1: Village Hall | Y1: Elections | Z1: Street Furniture
A2: 44295 | E2: D Best | F2: Homeworking Allowance | G2: 25 | K2: =G2 -> 25
E3: HMRC | F3: PAYE - Mar | G3: 39 | J3: =G3 -> 39
E4: CFO | F4: Subscription | G4: 55 | M4: =G4 -> 55
D5: 994826752 | E5: SSP Direct | F5: 20s Plenty Signs | G5: 148.68 | H5: 123.9 | I5: =G5-H5 -> 24.78 | Z5: =H5 -> 123.9
E6: D Best | F6: Pay - Mar | G6: 156.48 | J6: =G6 -> 156.48
D7: 729478095 | E7: Thomas Fox | F7: Mowing | G7: 352.17 | H7: 293.47 | I7: =G7-H7 -> 58.7 | Q7: =H7 -> 293.47
D8: 284682618 | E8: Blinkhorns | F8: Projector & Screen | G8: 1697 | H8: 1414.17 | I8: =G8-H8 -> 282.83 | X8: =H8 -> 1414.17
E9: D Best | F9: Homeworking Allowance | G9: 25 | K9: =G9 -> 25
E10: HMRC | F10: PAYE - Apr | G10: 44.8 | J10: =G10 -> 44.8
E11: J Eastwood | F11: Internal Audit Fee | G11: 60 | N11: =G11 -> 60
E12: D Best | F12: Reimburse Zoom Conferencing | G12: 86.34 | H12: 71.95 | I12: =G12-H12 -> 14.39 | K12: =H12 -> 71.95
E13: D Best | F13: Pay - Apr | G13: 179.84 | J13: =G13 -> 179.84
E14: Thomas Fox | F14: Mowing | G14: 217.85 | H14: 181.54 | I14: =G14-H14 -> 36.31 | Q14: =H14 -> 181.54
E15: Cherwell | F15: Dog Bin Emptying | G15: 240.9 | H15: 200.75 | I15: =G15-H15 -> 40.15 | T15: =H15 -> 200.75
E16: Zurich | F16: Insurance | G16: 549.82 | L16: =G16 -> 549.82
A17: 44340 | E17: West Close Committee | F17: Balance of S137 Grant | G17: 6.25 | R17: =G17 -> 6.25
E18: Barford News | F18: S137 Grant | G18: 700 | R18: =G18 -> 700
E19: PCC | F19: S137 Grant | G19: 1000 | R19: =G19 -> 1000
A20: 44368 | E20: D Best | F20: Homeworking Allowance | G20: 25 | K20: =G20 -> 25
E21: HMRC | F21: PAYE - May | G21: 45 | J21: =G21 -> 45
E22: D Best | F22: Pay - May | G22: 179.64 | J22: =G22 -> 179.64
E23: Thomas Fox | F23: Mowing | G23: 217.85 | H23: 181.54 | I23: =G23-H23 -> 36.31 | Q23: =H23 -> 181.54
A24: 44386 | E24: D Best | F24: Homeworking Allowance | G24: 25 | K24: =G24 -> 25
E25: HMRC | F25: PAYE- June | G25: 44.8 | J25: =G25 -> 44.8
E26: GPFA | F26: Training | G26: 85 | K26: =G26 -> 85
E27: D Best | F27: Pay - Jun | G27: 179.84 | J27: =G27 -> 179.84
E28: D Best | F28: Reimburse VH Tables | G28: 683.71 | H28: 569.76 | I28: =G28-H28 -> 113.95 | X28: =H28 -> 569.76
E29: Thomas Fox | F29: Mowing | G29: 863.98 | H29: 719.98 | I29: =G29-H29 -> 144 | Q29: =H29 -> 719.98
A30: 44453 | E30: HMRC | F30: PAYE - Jul | G30: 45 | J30: =G30 -> 45
E31: HMRC | F31: PAYE - Aug | G31: 45 | J31: =G31 -> 45
E32: D Best | F32: Homeworking Allowance | G32: 50 | K32: =G32 -> 50
E33: Playsafety Ltd | F33: Play Area Inspections | G33: 164.4 | H33: 137 | I33: =G33-H33 -> 27.4 | V33: =H33 -> 137
E34: D Best | F34: Pay - Jul & Aug | G34: 359.28 | J34: =G34 -> 359.28
E35: Thomas Fox | F35: Mowing | G35: 863.98 | H35: 719.98 | I35: =G35-H35 -> 144 | Q35: =H35 -> 719.98
E36: Thomas Fox | F36: Mowing | G36: 1079.36 | H36: 899.46 | I36: =G36-H36 -> 179.9 | Q36: =H36 -> 899.46
A37: 44469 | E37: Harry Stebbing | F37: Noticeboard | G37: 1130.4 | H37: 942 | I37: =G37-H37 -> 188.4 | Z37: =H37 -> 942
A38: 44483 | B38: 101458 | E38: B Alt | F38: Rent for allotment field | G38: 25 | S38: =G38 -> 25
A39: 44524 | E39: D Best | F39: Homeworking Allow - Sept | G39: 25 | K39: =G39 -> 25
A40: 44524 | E40: D Best | F40: Homeworking Allow - Oct | G40: 25 | K40: =G40 -> 25
...

Sheet Accounts 2021-22
B1: 2020-21 | D1: 2021-22 | F1: 2021-22 | H1: 2021-22 | J1: 2022-23 | K1: +/- PY | L1: +/- %
B2: FY | D2: Budget | F2: FY | H2: Forecast YE | J2: Budget
A3: Receipts
A4: Precept | B4: 9750 | D4: 10000 | F4: =Income!E28 -> 10000 | K4: =F4-B4 -> 250 | L4: =K4/B4 -> 0.025641026
A5: Grants - Grass Cutting | B5: 709 | D5: 709 | F5: =Income!F28 -> 709 | K5: =F5-B5 -> 0 | L5: =K5/B5 -> 0
A6: Grants - Council Tax | B6: 14.16 | D6: 0 | F6: =Income!G28 -> 0 | K6: =F6-B6 -> -14.16 | L6: =K6/B6 -> -1
A7: Play Area (Inspection reimbursement) | B7: 137 | D7: 140 | F7: =Income!H28 -> 0 | K7: =F7-B7 -> -137 | L7: 0
A8: Wayleaves - West Close | B8: 17.49 | D8: 17.49 | F8: =Income!I28 -> 17.63 | K8: =F8-B8 -> 0.14 | L8: =K8/B8 -> 0.008004574
A9: Bank Interest | B9: 2.79 | D9: 0 | F9: =Income!J28 -> 0.24 | K9: =F9-B9 -> -2.55 | L9: =K9/B9 -> -0.91397849
A10: Allotment Rents | B10: 302.5 | D10: 310 | F10: =Income!K28 -> 90 | K10: =F10-B10 -> -212.5 | L10: =K10/B10 -> -0.70247934
A11: Village Hall | B11: 27300.47 | D11: 0 | F11: =Income!L28 -> 1069.75 | K11: =F11-B11 -> -26230.72 | L11: 1
A12: Miscellaneous | B12: 159.98 | D12: 0 | F12: =Income!M28 -> 0 | K12: =F12-B12 -> -159.98 | L12: 0
A13: VAT Reclaim | B13: 4574.4 | D13: 875 | F13: =Income!N28 -> 2932.53 | K13: =F13-B13 -> -1641.87 | L13: -100%
A14: Total | B14: =SUM(B4:B13) -> 42967.79 | C14: =SUM(C4:C13) -> 0 | D14: =SUM(D4:D13) -> 12051.49 | F14: =SUM(F4:F13) -> 14819.15 | H14: =SUM(H4:H13) -> 0 | J14: =SUM(J4:J13) -> 0 | K14: =F14-B14 -> -28148.64 | L14: =K14/B14 -> -0.65511026
A16: Payments
A17: Clerk's Salary incl. NI | B17: 2911.32 | D17: 2416 | F17: =Expenditure!J59 -> 2217.24 | K17: =F17-B17 -> -694.08 | L17: =K17/B17 -> -0.23840732
A18: Insurance | B18: 545.34 | D18: 570 | F18: =Expenditure!L59 -> 549.82 | K18: =F18-B18 -> 4.48 | L18: =K18/B18 -> 0.0082150585
A19: Subscriptions (OALC, CFO, ICO) | B19: 328.82 | D19: 213 | F19: =Expenditure!M59 -> 90 | K19: =F19-B19 -> -238.82 | L19: =K19/B19 -> -0.72629402
A20: Audit fees | B20: 360 | D20: 370 | F20: =Expenditure!N59 -> 260 | K20: =F20-B20 -> -100 | L20: 0
A21: Admin & Clerks Expenses | B21: 375 | D21: 312 | F21: =Expenditure!K59 -> 406.95 | K21: =F21-B21 -> 31.95 | L21: =K21/B21 -> 0.0852
A22: Grass Cutting | B22: 2415.01 | D22: 3000 | F22: =Expenditure!Q59 -> 3223.95 | K22: =F22-B22 -> 808.94 | L22: =K22/B22 -> 0.33496342
A23: Repirs/ Pruning | B23: 307.78 | D23: 250 | F23: =Expenditure!O59 -> 0 | K23: =F23-B23 -> -307.78
A24: S137 Grants | B24: 2550 | D24: 2500 | F24: =Expenditure!R59 -> 1806.25 | K24: =F24-B24 -> -743.75 | L24: =K24/B24 -> -0.29166667
A25: Allotment Expenses | B25: 38.91 | D25: 200 | F25: =Expenditure!S59 -> 25 | K25: =F25-B25 -> -13.91 | L25: =K25/B25 -> -0.35749165
A26: Dog Waste Bins | B26: 400.4 | D26: 412 | F26: =Expenditure!T59 -> 400.95 | K26: =F26-B26 -> 0.55 | L26: =K26/B26 -> 0.0013736264
A27: Play Equipment & Maintenance | B27: 93.75 | D27: 0 | F27: =Expenditure!U59 -> 0 | K27: =F27-B27 -> -93.75 | L27: 0
A28: Play Area Inspection | B28: 137 | D28: 140 | F28: =Expenditure!V59 -> 137 | K28: =F28-B28 -> 0 | L28: =K28/B28 -> 0
A29: Other Payments | B29: 149.94 | D29: 150 | F29: =Expenditure!W59 -> 0 | K29: =F29-B29 -> -149.94 | L29: =K29/B29 -> -1
A30: VAT | B30: 4844.78 | D30: 875 | F30: =Expenditure!I59 -> 1448.01 | K30: =F30-B30 -> -3396.77 | L30: =K30/B30 -> -0.70111956
A31: Village Hall | B31: 25748.46 | D31: 0 | F31: =Expenditure!X59 -> 1983.93 | K31: =F31-B31 -> -23764.53 | L31: 1
A32: Elections | B32: 0 | D32: 0 | F32: =Expenditure!Y59 -> 0 | K32: =F32-B32 -> 0 | L32: 0
A33: Street Furniture | B33: 0 | D33: 240 | F33: =Expenditure!Z59 -> 1222.13 | K33: =F33-B33 -> 1222.13 | L33: 0
A34: Total | B34: =SUM(B17:B33) -> 41206.51 | C34: =SUM(C17:C33) -> 0 | D34: =SUM(D17:D33) -> 11648 | F34: =SUM(F17:F33) -> 13771.23 | H34: =SUM(H17:H33) -> 0 | J34: =SUM(J17:J33) -> 0 | K34: =F34-B34 -> -27435.28 | L34: =K34/B34 -> -0.66579965
A36: Inflation Assumption | J36: 0.03
A38: Reserves
A39: Balance Brought Forward | B39: 8562.23 | F39: =B43 -> 10323.51
A40: Add: Receipts | B40: =B14 -> 42967.79 | F40: =F14 -> 14819.15
B41: =SUM(B39:B40) -> 51530.02 | F41: =SUM(F39:F40) -> 25142.66
A42: Less: Payments | B42: =B34 -> 41206.51 | F42: =F34 -> 13771.23
A43: Balance Carried Forward | B43: =B41-B42 -> 10323.51 | F43: =F41-F42 -> 11371.43
...

Sheet Budget 2022-23 (2)
B1: 2020-21 | D1: 2021-22 | F1: 2021-22 | H1: 2021-22 | J1: 2022-23 | K1: +/- PY | L1: +/- %
B2: FY | D2: Budget | F2: YTD | H2: Forecast YE | J2: Budget
A3: Receipts
A4: Precept | B4: 9750 | D4: 10000 | F4: =Income!E28 -> 10000 | H4: =F4 -> 10000 | J4: =H4*$J$36+H4 -> 10300 | K4: =F4-B4 -> 250 | L4: =K4/B4 -> 0.025641026
A5: Grants - Grass Cutting | B5: 709 | D5: 709 | F5: =Income!F28 -> 709 | H5: =F5 -> 709 | J5: =H5 -> 709 | K5: =F5-B5 -> 0 | L5: =K5/B5 -> 0
A6: Grants - Council Tax | B6: 14.16 | D6: 0 | F6: =Income!G28 -> 0 | H6: =F6 -> 0 | J6: 0 | K6: =F6-B6 -> -14.16 | L6: =K6/B6 -> -1
A7: Play Area (Inspection reimbursement) | B7: 137 | D7: 140 | F7: =Income!H28 -> 0 | H7: =F7 -> 0 | J7: 0 | K7: =F7-B7 -> -137 | L7: 0
A8: Wayleaves - West Close | B8: 17.49 | D8: 17.49 | F8: =Income!I28 -> 17.63 | H8: =F8 -> 17.63 | J8: =H8 -> 17.63 | K8: =F8-B8 -> 0.14 | L8: =K8/B8 -> 0.008004574
A9: Bank Interest | B9: 2.79 | D9: 0 | F9: =Income!J28 -> 0.24 | H9: =F9+0.06 -> 0.3 | J9: =H9 -> 0.3 | K9: =F9-B9 -> -2.55 | L9: =K9/B9 -> -0.91397849
A10: Allotment Rents | B10: 302.5 | D10: 310 | F10: =Income!K28 -> 90 | H10: 300 | J10: =H10 -> 300 | K10: =F10-B10 -> -212.5 | L10: =K10/B10 -> -0.70247934
A11: Village Hall | B11: 27300.47 | D11: 0 | F11: =Income!L28 -> 1069.75 | H11: =F11 -> 1069.75 | J11: 0 | K11: =F11-B11 -> -26230.72 | L11: 1
A12: Miscellaneous | B12: 159.98 | D12: 0 | F12: =Income!M28 -> 0 | H12: 0 | J12: 0 | K12: =F12-B12 -> -159.98 | L12: 0
A13: VAT Reclaim | B13: 4574.4 | D13: 875 | F13: =Income!N28 -> 2932.53 | H13: 2932.53 | J13: =J30 -> 921.75004 | K13: =F13-B13 -> -1641.87 | L13: -100%
A14: Total | B14: =SUM(B4:B13) -> 42967.79 | C14: =SUM(C4:C13) -> 0 | D14: =SUM(D4:D13) -> 12051.49 | F14: =SUM(F4:F13) -> 14819.15 | H14: =SUM(H4:H13) -> 15029.21 | J14: =SUM(J4:J13) -> 12248.68 | K14: =F14-B14 -> -28148.64 | L14: =K14/B14 -> -0.65511026
A16: Payments
A17: Clerk's Salary incl. NI | B17: 2911.32 | D17: 2416 | F17: =Expenditure!J59 -> 2217.24 | H17: =F17+(4*224.64) -> 3115.8 | J17: =(224.64+(224.64*$J$36))*12 -> 2776.5504 | K17: =F17-B17 -> -694.08 | L17: =K17/B17 -> -0.23840732
A18: Insurance | B18: 545.34 | D18: 570 | F18: =Expenditure!L59 -> 549.82 | H18: =F18 -> 549.82 | J18: =H18*$J$36+H18 -> 566.3146 | K18: =F18-B18 -> 4.48 | L18: =K18/B18 -> 0.0082150585
A19: Subscriptions (OALC, CFO, ICO) | B19: 328.82 | D19: 213 | F19: =Expenditure!M59 -> 90 | H19: =F19+122 -> 212 | J19: =H19*$J$36+H19 -> 218.36 | K19: =F19-B19 -> -238.82 | L19: =K19/B19 -> -0.72629402
A20: Audit fees | B20: 360 | D20: 370 | F20: =Expenditure!N59 -> 260 | H20: =F20 -> 260 | J20: =H20*$J$36+H20 -> 267.8 | K20: =F20-B20 -> -100 | L20: 0
A21: Admin & Clerks Expenses | B21: 375 | D21: 312 | F21: =Expenditure!K59 -> 406.95 | H21: =F21+(4*25) -> 506.95 | J21: =(12*25)+50 -> 350 | K21: =F21-B21 -> 31.95 | L21: =K21/B21 -> 0.0852
A22: Grass Cutting | B22: 2415.01 | D22: 3000 | F22: =Expenditure!Q59 -> 3223.95 | H22: =F22+46.44 -> 3270.39 | J22: =H22*$J$36+H22 -> 3368.5017 | K22: =F22-B22 -> 808.94 | L22: =K22/B22 -> 0.33496342
A23: Repirs/ Pruning | B23: 307.78 | D23: 250 | F23: =Expenditure!O59 -> 0 | H23: 250 | J23: =H23 -> 250 | K23: =F23-B23 -> -307.78
A24: S137 Grants | B24: 2550 | D24: 2500 | F24: =Expenditure!R59 -> 1806.25 | H24: =F24+60 -> 1866.25 | J24: 2060 | K24: =F24-B24 -> -743.75 | L24: =K24/B24 -> -0.29166667
A25: Allotment Expenses | B25: 38.91 | D25: 200 | F25: =Expenditure!S59 -> 25 | H25: =F25 -> 25 | J25: 225 | K25: =F25-B25 -> -13.91 | L25: =K25/B25 -> -0.35749165
A26: Dog Waste Bins | B26: 400.4 | D26: 412 | F26: =Expenditure!T59 -> 400.95 | H26: =F26 -> 400.95 | J26: =H26*$J$36+H26 -> 412.9785 | K26: =F26-B26 -> 0.55 | L26: =K26/B26 -> 0.0013736264
A27: Play Equipment & Maintenance | B27: 93.75 | D27: 0 | F27: =Expenditure!U59 -> 0 | H27: =F27 -> 0 | J27: 200 | K27: =F27-B27 -> -93.75 | L27: 0
A28: Play Area Inspection | B28: 137 | D28: 140 | F28: =Expenditure!V59 -> 137 | H28: =F28 -> 137 | J28: =H28*$J$36+H28 -> 141.11 | K28: =F28-B28 -> 0 | L28: =K28/B28 -> 0
A29: Other Payments | B29: 149.94 | D29: 150 | F29: =Expenditure!W59 -> 0 | H29: =F29 -> 0 | J29: 150 | K29: =F29-B29 -> -149.94 | L29: =K29/B29 -> -1
A30: VAT | B30: 4844.78 | D30: 875 | F30: =Expenditure!I59 -> 1448.01 | H30: =F30 -> 1448.01 | J30: =(J19+J20+J22+J26+J27+J28)*0.2 -> 921.75004 | K30: =F30-B30 -> -3396.77 | L30: =K30/B30 -> -0.70111956
A31: Village Hall | B31: 25748.46 | D31: 0 | F31: =Expenditure!X59 -> 1983.93 | H31: =F31 -> 1983.93 | J31: 0 | K31: =F31-B31 -> -23764.53 | L31: 1
A32: Elections | B32: 0 | D32: 0 | F32: =Expenditure!Y59 -> 0 | H32: =F32 -> 0 | J32: 300 | K32: =F32-B32 -> 0 | L32: 0
A33: Street Furniture | B33: 0 | D33: 240 | F33: =Expenditure!Z59 -> 1222.13 | H33: =F33 -> 1222.13 | J33: 150 | K33: =F33-B33 -> 1222.13 | L33: 0
A34: Total | B34: =SUM(B17:B33) -> 41206.51 | C34: =SUM(C17:C33) -> 0 | D34: =SUM(D17:D33) -> 11648 | F34: =SUM(F17:F33) -> 13771.23 | H34: =SUM(H17:H33) -> 15248.23 | J34: =SUM(J17:J33) -> 12358.365 | K34: =F34-B34 -> -27435.28 | L34: =K34/B34 -> -0.66579965
A36: Inflation Assumption | J36: 0.03
A38: Reserves
A39: Balance Brought Forward | B39: 8562.23 | H39: =B43 -> 10323.51 | J39: =H43 -> 10104.49
A40: Add: Receipts | B40: =B14 -> 42967.79 | H40: =H14 -> 15029.21 | J40: =J14 -> 12248.68
B41: =SUM(B39:B40) -> 51530.02 | H41: =SUM(H39:H40) -> 25352.72 | J41: =SUM(J39:J40) -> 22353.17
A42: Less: Payments | B42: =B34 -> 41206.51 | H42: =H34 -> 15248.23 | J42: =J34 -> 12358.365
A43: Balance Carried Forward | B43: =B41-B42 -> 10323.51 | H43: =H41-H42 -> 10104.49 | J43: =J41-J42 -> 9994.8048
...

Sheet Bank Reconciliation
A1: Bank Balances as at 31st March 2021
B2: Community Account ( 80706973) | C2: 7806.68
B3: Business Saver Account (80401765) | C3: 2516.83
D4: =SUM(C2:C3) -> 10323.51
A6: Less: Unpresented cheques
B7: Detail | C7: 0
B8: Detail | C8: 0
B9: Detail | C9: 0
D10: =SUM(C7:C9) -> 0
D11: =D4-D10 -> 10323.51
A12: Add: Uncleared paymentss
B13: Detail | C13: 0
B14: Detail | C14: 0
B15: Detail | C15: 0
D16: =SUM(C13:C15) -> 0
D17: =D11+D16 -> 10323.51
A18: Add: Short term investments
B19: Detail | C19: 0
B20: Detail | C20: 0
B21: Detail | C21: 0
D22: =SUM(C19:C21) -> 0
A23: Total | D23: =D17+D22 -> 10323.51
A25: What is the figure in Box 8 in section 2 of the annual return ? | D25: 10323.51
A27: Does the total equal Box 8 in section 2 of the annual return ? | D27: Yes

Sheet Budget 20-21
A1: Barfords' Budget 2020/21
A3: Expenditure | B3: Budget 2019/20 | C3: Year to 4/12/19 | D3: Forecast YE 31/03/20 | E3: Budget 2020/21 | F3: Notes
A4: OALC Subscription | B4: 140 | C4: 0 | D4: 140 | E4: 140 | F4: 1
A5: CFO Subscription | B5: 55 | C5: 0 | D5: 55 | E5: 55 | F5: 2
A6: Grass Cutting & Weed Killing | B6: 2800 | C6: 3345.3 | D6: =C6 -> 3345.3 | E6: 3400 | F6: 3
A7: S137 Grants | B7: 2500 | C7: 2500 | D7: =C7 -> 2500 | E7: 2500 | F7: 4
A8: Play Area Equipment | B8: 0 | C8: 29806.88 | D8: 29806.88 | E8: 0 | F8: 5
A9: Village Hall | B9: 0 | C9: 3722.5 | D9: 3722.5 | E9: 0 | F9: 6
A10: Allianz Insurance | B10: 560 | C10: 541 | D10: 541 | E10: 570 | F10: 7
A11: Audit Fee | B11: 50 | C11: 260 | D11: =C11 -> 260 | E11: 260 | F11: 8
A12: Clerk | B12: 2300 | C12: 1707.5 | D12: 2283 | E12: 2374 | F12: 9
A13: Clerk's Expenses | B13: 300 | C13: 225 | D13: 300 | E13: 300 | F13: 10
A14: Election | B14: 0 | C14: 0 | D14: 0 | E14: 0 | F14: 11
A15: Contingency/Other | B15: 0 | C15: 55.75 | D15: =C15 -> 55.75 | E15: 0 | F15: 12
A16: General Repairs/ Pruning | B16: 250 | C16: 0 | D16: 300 | E16: 250 | F16: 13
A17: Allotment Rental & Water | B17: 300 | C17: 239.69 | D17: 260 | E17: 200 | F17: 14
A18: Dog Bin Emptying | B18: 400 | C18: 360.36 | D18: =C18 -> 360.36 | E18: 400 | F18: 15
A19: Play Area Inspection | B19: 67 | C19: 68.5 | D19: =C19 -> 68.5 | E19: 140 | F19: 16
A20: Street Furniture (Signs) | B20: 240 | C20: 141.69 | D20: =C20 -> 141.69 | E20: 240 | F20: 17
A21: Donations (wreath) | B21: 50 | C21: 50 | D21: =C21 -> 50 | E21: 50 | F21: 18
A22: VAT | B22: 600 | C22: 7529.05 | D22: 7529 | E22: =(E20+E19+E18+E11+E6+E4)*0.2 -> 916 | F22: 19
A23: Total Expenditure | B23: =SUM(B4:B22) -> 10612 | C23: =SUM(C4:C22) -> 50553.22 | D23: =SUM(D4:D22) -> 51718.98 | E23: =SUM(E4:E22) -> 11795
A25: Income | B25: Budget 2019/20 | C25: Year to 4/12/19 | D25: Forecast YE 31/03/20 | E25: Budget 2020/21
A26: Precept | B26: 9000 | C26: =B26 -> 9000 | D26: =C26 -> 9000 | E26: 9750 | F26: 20
A27: CDC Council Tax Grant | B27: 28 | C27: 28.32 | D27: =C27 -> 28.32 | E27: =D27/2 -> 14.16 | F27: 21
A28: Grass Cutting Grant (OCC) | B28: 709 | C28: =B28 -> 709 | D28: =C28 -> 709 | E28: =D28 -> 709 | F28: 22
A29: Way Leaves | B29: 17 | C29: 17.49 | D29: 17.49 | E29: 18 | F29: 23
A30: Bank Interest | B30: 0 | C30: 8.66 | D30: =C30+3.48 -> 12.14 | E30: 15 | F30: 24
A31: Allotment Rents | B31: 340 | C31: 310 | D31: 310 | E31: 310 | F31: 25
A32: Village Hall | B32: 0 | C32: 3625 | D32: =C32+97.5 -> 3722.5 | E32: 0 | F32: 26
A33: Play Area | B33: 0 | C33: 27805.72 | D33: =C33 -> 27805.72 | E33: 140 | F33: 27
A34: VAT Reclaim | B34: 576 | C34: 9509.34 | D34: =C34+1367.27 -> 10876.61 | E34: =E22 -> 916 | F34: 28
A35: Total Imcome | B35: =SUM(B26:B34) -> 10670 | C35: =SUM(C26:C34) -> 51013.53 | D35: =SUM(D26:D34) -> 52481.78 | E35: =SUM(E26:E34) -> 11872.16
A37: Excess of Income over Expenditure | B37: =B35-B23 -> 58 | C37: =C35-C23 -> 460.31 | D37: =D35-D23 -> 762.8 | E37: =E35-E23 -> 77.16
A39: VAT Expediture is highlighted in blue font
A41: Memo: additional expenditure to Year End | C41: =D23-C23 -> 1165.76
A43: Cash in Bank (Reserves) | B43: Start of Year | C43: Year to 4/12/19 | D43: Forecast YE 31/03/20 | E43: Forecast YE 31/03/21
A44: Current Account | B44: 933.53 | C44: 1360.18 | D44: =C44-C41 -> 194.42
A45: Deposit Account | B45: 7502.53 | C45: 7511.19 | D45: =C45 -> 7511.19
A46: Total (Reserves) | B46: =SUM(B44:B45) -> 8436.06 | C46: =SUM(C44:C45) -> 8871.37 | D46: =SUM(D44:D45) -> 7705.61 | E46: =D46+E37 -> 7782.77 | F46: 29
